BEGIN:VCALENDAR
VERSION:2.0
PRODID:-//Bondeungdomslaget i Oslo - ECPv6.15.20//NONSGML v1.0//EN
CALSCALE:GREGORIAN
METHOD:PUBLISH
X-ORIGINAL-URL:https://www.bul.no
X-WR-CALDESC:Hendingar for Bondeungdomslaget i Oslo
REFRESH-INTERVAL;VALUE=DURATION:PT1H
X-Robots-Tag:noindex
X-PUBLISHED-TTL:PT1H
BEGIN:VTIMEZONE
TZID:Europe/Oslo
BEGIN:DAYLIGHT
TZOFFSETFROM:+0100
TZOFFSETTO:+0200
TZNAME:CEST
DTSTART:20240331T010000
END:DAYLIGHT
BEGIN:STANDARD
TZOFFSETFROM:+0200
TZOFFSETTO:+0100
TZNAME:CET
DTSTART:20241027T010000
END:STANDARD
BEGIN:DAYLIGHT
TZOFFSETFROM:+0100
TZOFFSETTO:+0200
TZNAME:CEST
DTSTART:20250330T010000
END:DAYLIGHT
BEGIN:STANDARD
TZOFFSETFROM:+0200
TZOFFSETTO:+0100
TZNAME:CET
DTSTART:20251026T010000
END:STANDARD
BEGIN:DAYLIGHT
TZOFFSETFROM:+0100
TZOFFSETTO:+0200
TZNAME:CEST
DTSTART:20260329T010000
END:DAYLIGHT
BEGIN:STANDARD
TZOFFSETFROM:+0200
TZOFFSETTO:+0100
TZNAME:CET
DTSTART:20261025T010000
END:STANDARD
END:VTIMEZONE
BEGIN:VEVENT
DTSTART;TZID=Europe/Oslo:20251106T183000
DTEND;TZID=Europe/Oslo:20251106T220000
DTSTAMP:20260422T084258
CREATED:20251001T131419Z
LAST-MODIFIED:20251002T133030Z
UID:10001964-1762453800-1762466400@www.bul.no
SUMMARY:Øving: Songlaget
DESCRIPTION:Songlaget i Bondeungdomslaget (BUL) i Oslo\, er eit blandakor med meir enn 50 songarar i ulike aldrar. Koret er eit av dei eldste særlaga i Bondeungdomslaget\, og vart stifta i 1914. I 2024 feirar vi 110 år og er framleis eit aktivt amatørkor i Oslo. \nKoret har eit godt sosialt miljø med songglade kvinner og menn. Ei spennande samling av folk med alle slags bakgrunnar og opphavsstader. Vi møtest til song kvar torsdag frå kl. 19.00 – 21.30 i Teatersalen i Nynorskens hus\, i Rosenkrantz’ gate 8 i Oslo. \nEi av dei viktigaste målsetjingane våre er å ta vare på norske song- og musikktradisjonar\, men vi har òg utanlandske folketonar og klassiske verk på repertoaret. \n  \nHar du lyst til å høyre og sjå oss på ei øving\, er det berre å kome innom i Teatersalen i Rosenkrantzgate 8\, eller send ein e-post til songlaget@bul.no.
URL:https://www.bul.no/hending/oving-songlaget-2/2025-11-06/
LOCATION:Nynorskens hus\, Rosenkrantz gt 8\, Oslo
CATEGORIES:Song,Songlaget
ATTACH;FMTTYPE=image/jpeg:https://www.bul.no/wp-content/uploads/2025/10/Songlaget-e1759324444280.avif
GEO:59.9146404;10.7399378
X-APPLE-STRUCTURED-LOCATION;VALUE=URI;X-ADDRESS=Nynorskens hus Rosenkrantz gt 8 Oslo;X-APPLE-RADIUS=500;X-TITLE=Rosenkrantz gt 8:geo:10.7399378,59.9146404
END:VEVENT
BEGIN:VEVENT
DTSTART;TZID=Europe/Oslo:20251108T150000
DTEND;TZID=Europe/Oslo:20251108T200000
DTSTAMP:20260422T084258
CREATED:20251009T120112Z
LAST-MODIFIED:20251027T143603Z
UID:10002066-1762614000-1762632000@www.bul.no
SUMMARY:Den mangfaldige festivalen
DESCRIPTION:Kom på gratis festival på Nynorskens hus i Oslo sentrum \, laurdag 8. november kl. 15:00-20:00. \n  \nSjå programmet på heimesida til Den mangfaldige scenen. \n  \nAlle er velkomne!
URL:https://www.bul.no/hending/den-mangfaldige-festivalen/2025-11-08/
LOCATION:Teatersalen\, Nynorskens hus\, Rosenkrantz' gate 8\, Oslo\, Norge
CATEGORIES:Dans,Den mangfaldige scenen,Kulturkveld,Musikk,Song,Teater
ATTACH;FMTTYPE=image/png:https://www.bul.no/wp-content/uploads/2025/10/Den-mangfaldige-festivalen-kalender.avif
ORGANIZER;CN="Den mangfaldige scenen":MAILTO:post@mangfaldige.no
END:VEVENT
BEGIN:VEVENT
DTSTART;TZID=Europe/Oslo:20251113T183000
DTEND;TZID=Europe/Oslo:20251113T220000
DTSTAMP:20260422T084258
CREATED:20251001T131419Z
LAST-MODIFIED:20251002T133030Z
UID:10001965-1763058600-1763071200@www.bul.no
SUMMARY:Øving: Songlaget
DESCRIPTION:Songlaget i Bondeungdomslaget (BUL) i Oslo\, er eit blandakor med meir enn 50 songarar i ulike aldrar. Koret er eit av dei eldste særlaga i Bondeungdomslaget\, og vart stifta i 1914. I 2024 feirar vi 110 år og er framleis eit aktivt amatørkor i Oslo. \nKoret har eit godt sosialt miljø med songglade kvinner og menn. Ei spennande samling av folk med alle slags bakgrunnar og opphavsstader. Vi møtest til song kvar torsdag frå kl. 19.00 – 21.30 i Teatersalen i Nynorskens hus\, i Rosenkrantz’ gate 8 i Oslo. \nEi av dei viktigaste målsetjingane våre er å ta vare på norske song- og musikktradisjonar\, men vi har òg utanlandske folketonar og klassiske verk på repertoaret. \n  \nHar du lyst til å høyre og sjå oss på ei øving\, er det berre å kome innom i Teatersalen i Rosenkrantzgate 8\, eller send ein e-post til songlaget@bul.no.
URL:https://www.bul.no/hending/oving-songlaget-2/2025-11-13/
LOCATION:Nynorskens hus\, Rosenkrantz gt 8\, Oslo
CATEGORIES:Song,Songlaget
ATTACH;FMTTYPE=image/jpeg:https://www.bul.no/wp-content/uploads/2025/10/Songlaget-e1759324444280.avif
GEO:59.9146404;10.7399378
X-APPLE-STRUCTURED-LOCATION;VALUE=URI;X-ADDRESS=Nynorskens hus Rosenkrantz gt 8 Oslo;X-APPLE-RADIUS=500;X-TITLE=Rosenkrantz gt 8:geo:10.7399378,59.9146404
END:VEVENT
BEGIN:VEVENT
DTSTART;TZID=Europe/Oslo:20251120T183000
DTEND;TZID=Europe/Oslo:20251120T220000
DTSTAMP:20260422T084258
CREATED:20251001T131419Z
LAST-MODIFIED:20251002T133030Z
UID:10001966-1763663400-1763676000@www.bul.no
SUMMARY:Øving: Songlaget
DESCRIPTION:Songlaget i Bondeungdomslaget (BUL) i Oslo\, er eit blandakor med meir enn 50 songarar i ulike aldrar. Koret er eit av dei eldste særlaga i Bondeungdomslaget\, og vart stifta i 1914. I 2024 feirar vi 110 år og er framleis eit aktivt amatørkor i Oslo. \nKoret har eit godt sosialt miljø med songglade kvinner og menn. Ei spennande samling av folk med alle slags bakgrunnar og opphavsstader. Vi møtest til song kvar torsdag frå kl. 19.00 – 21.30 i Teatersalen i Nynorskens hus\, i Rosenkrantz’ gate 8 i Oslo. \nEi av dei viktigaste målsetjingane våre er å ta vare på norske song- og musikktradisjonar\, men vi har òg utanlandske folketonar og klassiske verk på repertoaret. \n  \nHar du lyst til å høyre og sjå oss på ei øving\, er det berre å kome innom i Teatersalen i Rosenkrantzgate 8\, eller send ein e-post til songlaget@bul.no.
URL:https://www.bul.no/hending/oving-songlaget-2/2025-11-20/
LOCATION:Nynorskens hus\, Rosenkrantz gt 8\, Oslo
CATEGORIES:Song,Songlaget
ATTACH;FMTTYPE=image/jpeg:https://www.bul.no/wp-content/uploads/2025/10/Songlaget-e1759324444280.avif
GEO:59.9146404;10.7399378
X-APPLE-STRUCTURED-LOCATION;VALUE=URI;X-ADDRESS=Nynorskens hus Rosenkrantz gt 8 Oslo;X-APPLE-RADIUS=500;X-TITLE=Rosenkrantz gt 8:geo:10.7399378,59.9146404
END:VEVENT
BEGIN:VEVENT
DTSTART;TZID=Europe/Oslo:20251122T130000
DTEND;TZID=Europe/Oslo:20251122T163000
DTSTAMP:20260422T084258
CREATED:20251028T085710Z
LAST-MODIFIED:20251028T085710Z
UID:10002067-1763816400-1763829000@www.bul.no
SUMMARY:Kulturdag: Den mangfaldige scenen
DESCRIPTION:Den mangfaldige scenen inviterer til kulturdag saman med Iraks internasjonale senter for kultur og media. Program frå kl. 13:00-16:30. \n  \nMeir info kjem.
URL:https://www.bul.no/hending/kulturdag-den-mangfaldige-scenen/
LOCATION:Teatersalen\, Nynorskens hus\, Rosenkrantz' gate 8\, Oslo\, Norge
CATEGORIES:Den mangfaldige scenen,Kulturkveld,Litteratur,Musikk,Song,Teater
ATTACH;FMTTYPE=image/png:https://www.bul.no/wp-content/uploads/2025/10/kulturdag-kalender.avif
ORGANIZER;CN="Den mangfaldige scenen":MAILTO:post@mangfaldige.no
END:VEVENT
BEGIN:VEVENT
DTSTART;TZID=Europe/Oslo:20251127T183000
DTEND;TZID=Europe/Oslo:20251127T220000
DTSTAMP:20260422T084258
CREATED:20251001T131419Z
LAST-MODIFIED:20251002T133030Z
UID:10001967-1764268200-1764280800@www.bul.no
SUMMARY:Øving: Songlaget
DESCRIPTION:Songlaget i Bondeungdomslaget (BUL) i Oslo\, er eit blandakor med meir enn 50 songarar i ulike aldrar. Koret er eit av dei eldste særlaga i Bondeungdomslaget\, og vart stifta i 1914. I 2024 feirar vi 110 år og er framleis eit aktivt amatørkor i Oslo. \nKoret har eit godt sosialt miljø med songglade kvinner og menn. Ei spennande samling av folk med alle slags bakgrunnar og opphavsstader. Vi møtest til song kvar torsdag frå kl. 19.00 – 21.30 i Teatersalen i Nynorskens hus\, i Rosenkrantz’ gate 8 i Oslo. \nEi av dei viktigaste målsetjingane våre er å ta vare på norske song- og musikktradisjonar\, men vi har òg utanlandske folketonar og klassiske verk på repertoaret. \n  \nHar du lyst til å høyre og sjå oss på ei øving\, er det berre å kome innom i Teatersalen i Rosenkrantzgate 8\, eller send ein e-post til songlaget@bul.no.
URL:https://www.bul.no/hending/oving-songlaget-2/2025-11-27/
LOCATION:Nynorskens hus\, Rosenkrantz gt 8\, Oslo
CATEGORIES:Song,Songlaget
ATTACH;FMTTYPE=image/jpeg:https://www.bul.no/wp-content/uploads/2025/10/Songlaget-e1759324444280.avif
GEO:59.9146404;10.7399378
X-APPLE-STRUCTURED-LOCATION;VALUE=URI;X-ADDRESS=Nynorskens hus Rosenkrantz gt 8 Oslo;X-APPLE-RADIUS=500;X-TITLE=Rosenkrantz gt 8:geo:10.7399378,59.9146404
END:VEVENT
END:VCALENDAR