BEGIN:VCALENDAR
VERSION:2.0
PRODID:-//Bondeungdomslaget i Oslo - ECPv6.15.20//NONSGML v1.0//EN
CALSCALE:GREGORIAN
METHOD:PUBLISH
X-WR-CALNAME:Bondeungdomslaget i Oslo
X-ORIGINAL-URL:https://www.bul.no
X-WR-CALDESC:Hendingar for Bondeungdomslaget i Oslo
REFRESH-INTERVAL;VALUE=DURATION:PT1H
X-Robots-Tag:noindex
X-PUBLISHED-TTL:PT1H
BEGIN:VTIMEZONE
TZID:Europe/Oslo
BEGIN:DAYLIGHT
TZOFFSETFROM:+0100
TZOFFSETTO:+0200
TZNAME:CEST
DTSTART:20250330T010000
END:DAYLIGHT
BEGIN:STANDARD
TZOFFSETFROM:+0200
TZOFFSETTO:+0100
TZNAME:CET
DTSTART:20251026T010000
END:STANDARD
BEGIN:DAYLIGHT
TZOFFSETFROM:+0100
TZOFFSETTO:+0200
TZNAME:CEST
DTSTART:20260329T010000
END:DAYLIGHT
BEGIN:STANDARD
TZOFFSETFROM:+0200
TZOFFSETTO:+0100
TZNAME:CET
DTSTART:20261025T010000
END:STANDARD
BEGIN:DAYLIGHT
TZOFFSETFROM:+0100
TZOFFSETTO:+0200
TZNAME:CEST
DTSTART:20270328T010000
END:DAYLIGHT
BEGIN:STANDARD
TZOFFSETFROM:+0200
TZOFFSETTO:+0100
TZNAME:CET
DTSTART:20271031T010000
END:STANDARD
END:VTIMEZONE
BEGIN:VEVENT
DTSTART;TZID=Europe/Oslo:20260301T150000
DTEND;TZID=Europe/Oslo:20260301T160000
DTSTAMP:20260422T024139
CREATED:20260212T110853Z
LAST-MODIFIED:20260212T110853Z
UID:10002447-1772377200-1772380800@www.bul.no
SUMMARY:Ekstern: Oslo kammerorkester og Alfred Linus Wang
DESCRIPTION:Oslo kammerorkester inviterer til konsert med den unge fiolinisten Alfred Linus Wang. Programmet inkluderer Dvořáks vidunderlege strykeserenade\, Piazzollas forrykande versjon av Vinteren\, Våren av Vivaldi og Grieg\, og Tsjaikovskijs Elegie.\n\nBillettar kr 250\,- i forhåndssalg på TicketCo eller i døra med Vipps. Sjå også Oslo kammerorkester for fleire detaljar.\n\nArrangør\nOslo kammerorkester
URL:https://www.bul.no/hending/ekstern-oslo-kammerorkester-og-alfred-linus-wang/
LOCATION:Teatersalen\, Nynorskens hus\, Rosenkrantz' gate 8\, Oslo\, Norge
CATEGORIES:Konsert,Musikk
ATTACH;FMTTYPE=image/jpeg:https://www.bul.no/wp-content/uploads/2026/02/oslo-kammerorkester.avif
END:VEVENT
BEGIN:VEVENT
DTSTART;TZID=Europe/Oslo:20260305T183000
DTEND;TZID=Europe/Oslo:20260305T220000
DTSTAMP:20260422T024139
CREATED:20260204T072611Z
LAST-MODIFIED:20260204T072611Z
UID:10002343-1772735400-1772748000@www.bul.no
SUMMARY:Øving: Songlaget
DESCRIPTION:Songlaget i Bondeungdomslaget (BUL) i Oslo\, er eit blandakor med meir enn 50 songarar i ulike aldrar. Koret er eit av dei eldste særlaga i Bondeungdomslaget\, og vart stifta i 1914. I 2024 feirar vi 110 år og er framleis eit aktivt amatørkor i Oslo. \nKoret har eit godt sosialt miljø med songglade kvinner og menn. Ei spennande samling av folk med alle slags bakgrunnar og opphavsstader. Vi møtest til song kvar torsdag frå kl. 19.00 – 21.30 i Teatersalen i Nynorskens hus\, i Rosenkrantz’ gate 8 i Oslo. \nEi av dei viktigaste målsetjingane våre er å ta vare på norske song- og musikktradisjonar\, men vi har òg utanlandske folketonar og klassiske verk på repertoaret. \n  \nHar du lyst til å høyre og sjå oss på ei øving\, er det berre å kome innom i Teatersalen i Rosenkrantzgate 8\, eller send ein e-post til songlaget@bul.no.
URL:https://www.bul.no/hending/oving-songlaget/2026-03-05/
LOCATION:Nynorskens hus\, Rosenkrantz gt 8\, Oslo
CATEGORIES:Song,Songlaget
ATTACH;FMTTYPE=image/jpeg:https://www.bul.no/wp-content/uploads/2026/02/songlaget-jubileumskonsert-e1770189946202.avif
GEO:59.9146404;10.7399378
X-APPLE-STRUCTURED-LOCATION;VALUE=URI;X-ADDRESS=Nynorskens hus Rosenkrantz gt 8 Oslo;X-APPLE-RADIUS=500;X-TITLE=Rosenkrantz gt 8:geo:10.7399378,59.9146404
END:VEVENT
BEGIN:VEVENT
DTSTART;TZID=Europe/Oslo:20260312T183000
DTEND;TZID=Europe/Oslo:20260312T220000
DTSTAMP:20260422T024139
CREATED:20260204T072611Z
LAST-MODIFIED:20260204T072611Z
UID:10002344-1773340200-1773352800@www.bul.no
SUMMARY:Øving: Songlaget
DESCRIPTION:Songlaget i Bondeungdomslaget (BUL) i Oslo\, er eit blandakor med meir enn 50 songarar i ulike aldrar. Koret er eit av dei eldste særlaga i Bondeungdomslaget\, og vart stifta i 1914. I 2024 feirar vi 110 år og er framleis eit aktivt amatørkor i Oslo. \nKoret har eit godt sosialt miljø med songglade kvinner og menn. Ei spennande samling av folk med alle slags bakgrunnar og opphavsstader. Vi møtest til song kvar torsdag frå kl. 19.00 – 21.30 i Teatersalen i Nynorskens hus\, i Rosenkrantz’ gate 8 i Oslo. \nEi av dei viktigaste målsetjingane våre er å ta vare på norske song- og musikktradisjonar\, men vi har òg utanlandske folketonar og klassiske verk på repertoaret. \n  \nHar du lyst til å høyre og sjå oss på ei øving\, er det berre å kome innom i Teatersalen i Rosenkrantzgate 8\, eller send ein e-post til songlaget@bul.no.
URL:https://www.bul.no/hending/oving-songlaget/2026-03-12/
LOCATION:Nynorskens hus\, Rosenkrantz gt 8\, Oslo
CATEGORIES:Song,Songlaget
ATTACH;FMTTYPE=image/jpeg:https://www.bul.no/wp-content/uploads/2026/02/songlaget-jubileumskonsert-e1770189946202.avif
GEO:59.9146404;10.7399378
X-APPLE-STRUCTURED-LOCATION;VALUE=URI;X-ADDRESS=Nynorskens hus Rosenkrantz gt 8 Oslo;X-APPLE-RADIUS=500;X-TITLE=Rosenkrantz gt 8:geo:10.7399378,59.9146404
END:VEVENT
BEGIN:VEVENT
DTSTART;TZID=Europe/Oslo:20260319T183000
DTEND;TZID=Europe/Oslo:20260319T220000
DTSTAMP:20260422T024139
CREATED:20260204T072611Z
LAST-MODIFIED:20260204T072611Z
UID:10002345-1773945000-1773957600@www.bul.no
SUMMARY:Øving: Songlaget
DESCRIPTION:Songlaget i Bondeungdomslaget (BUL) i Oslo\, er eit blandakor med meir enn 50 songarar i ulike aldrar. Koret er eit av dei eldste særlaga i Bondeungdomslaget\, og vart stifta i 1914. I 2024 feirar vi 110 år og er framleis eit aktivt amatørkor i Oslo. \nKoret har eit godt sosialt miljø med songglade kvinner og menn. Ei spennande samling av folk med alle slags bakgrunnar og opphavsstader. Vi møtest til song kvar torsdag frå kl. 19.00 – 21.30 i Teatersalen i Nynorskens hus\, i Rosenkrantz’ gate 8 i Oslo. \nEi av dei viktigaste målsetjingane våre er å ta vare på norske song- og musikktradisjonar\, men vi har òg utanlandske folketonar og klassiske verk på repertoaret. \n  \nHar du lyst til å høyre og sjå oss på ei øving\, er det berre å kome innom i Teatersalen i Rosenkrantzgate 8\, eller send ein e-post til songlaget@bul.no.
URL:https://www.bul.no/hending/oving-songlaget/2026-03-19/
LOCATION:Nynorskens hus\, Rosenkrantz gt 8\, Oslo
CATEGORIES:Song,Songlaget
ATTACH;FMTTYPE=image/jpeg:https://www.bul.no/wp-content/uploads/2026/02/songlaget-jubileumskonsert-e1770189946202.avif
GEO:59.9146404;10.7399378
X-APPLE-STRUCTURED-LOCATION;VALUE=URI;X-ADDRESS=Nynorskens hus Rosenkrantz gt 8 Oslo;X-APPLE-RADIUS=500;X-TITLE=Rosenkrantz gt 8:geo:10.7399378,59.9146404
END:VEVENT
BEGIN:VEVENT
DTSTART;TZID=Europe/Oslo:20260326T183000
DTEND;TZID=Europe/Oslo:20260326T220000
DTSTAMP:20260422T024139
CREATED:20260204T072611Z
LAST-MODIFIED:20260204T072611Z
UID:10002346-1774549800-1774562400@www.bul.no
SUMMARY:Øving: Songlaget
DESCRIPTION:Songlaget i Bondeungdomslaget (BUL) i Oslo\, er eit blandakor med meir enn 50 songarar i ulike aldrar. Koret er eit av dei eldste særlaga i Bondeungdomslaget\, og vart stifta i 1914. I 2024 feirar vi 110 år og er framleis eit aktivt amatørkor i Oslo. \nKoret har eit godt sosialt miljø med songglade kvinner og menn. Ei spennande samling av folk med alle slags bakgrunnar og opphavsstader. Vi møtest til song kvar torsdag frå kl. 19.00 – 21.30 i Teatersalen i Nynorskens hus\, i Rosenkrantz’ gate 8 i Oslo. \nEi av dei viktigaste målsetjingane våre er å ta vare på norske song- og musikktradisjonar\, men vi har òg utanlandske folketonar og klassiske verk på repertoaret. \n  \nHar du lyst til å høyre og sjå oss på ei øving\, er det berre å kome innom i Teatersalen i Rosenkrantzgate 8\, eller send ein e-post til songlaget@bul.no.
URL:https://www.bul.no/hending/oving-songlaget/2026-03-26/
LOCATION:Nynorskens hus\, Rosenkrantz gt 8\, Oslo
CATEGORIES:Song,Songlaget
ATTACH;FMTTYPE=image/jpeg:https://www.bul.no/wp-content/uploads/2026/02/songlaget-jubileumskonsert-e1770189946202.avif
GEO:59.9146404;10.7399378
X-APPLE-STRUCTURED-LOCATION;VALUE=URI;X-ADDRESS=Nynorskens hus Rosenkrantz gt 8 Oslo;X-APPLE-RADIUS=500;X-TITLE=Rosenkrantz gt 8:geo:10.7399378,59.9146404
END:VEVENT
END:VCALENDAR