BEGIN:VCALENDAR
VERSION:2.0
PRODID:-//Bondeungdomslaget i Oslo - ECPv6.15.20//NONSGML v1.0//EN
CALSCALE:GREGORIAN
METHOD:PUBLISH
X-WR-CALNAME:Bondeungdomslaget i Oslo
X-ORIGINAL-URL:https://www.bul.no
X-WR-CALDESC:Hendingar for Bondeungdomslaget i Oslo
REFRESH-INTERVAL;VALUE=DURATION:PT1H
X-Robots-Tag:noindex
X-PUBLISHED-TTL:PT1H
BEGIN:VTIMEZONE
TZID:Europe/Oslo
BEGIN:DAYLIGHT
TZOFFSETFROM:+0100
TZOFFSETTO:+0200
TZNAME:CEST
DTSTART:20250330T010000
END:DAYLIGHT
BEGIN:STANDARD
TZOFFSETFROM:+0200
TZOFFSETTO:+0100
TZNAME:CET
DTSTART:20251026T010000
END:STANDARD
BEGIN:DAYLIGHT
TZOFFSETFROM:+0100
TZOFFSETTO:+0200
TZNAME:CEST
DTSTART:20260329T010000
END:DAYLIGHT
BEGIN:STANDARD
TZOFFSETFROM:+0200
TZOFFSETTO:+0100
TZNAME:CET
DTSTART:20261025T010000
END:STANDARD
BEGIN:DAYLIGHT
TZOFFSETFROM:+0100
TZOFFSETTO:+0200
TZNAME:CEST
DTSTART:20270328T010000
END:DAYLIGHT
BEGIN:STANDARD
TZOFFSETFROM:+0200
TZOFFSETTO:+0100
TZNAME:CET
DTSTART:20271031T010000
END:STANDARD
END:VTIMEZONE
BEGIN:VEVENT
DTSTART;TZID=Europe/Oslo:20260331T180000
DTEND;TZID=Europe/Oslo:20260331T193000
DTSTAMP:20260421T120805
CREATED:20260204T070754Z
LAST-MODIFIED:20260204T070754Z
UID:10002221-1774980000-1774985400@www.bul.no
SUMMARY:Øving: Songdans
DESCRIPTION:Songdans har alltid hatt ein spesiell plass i Leikarringen. I dag har me ei eiga songdansgruppe som øver tysdagar kl. 18.00-19.30. Songdansen har òg ein naturleg plass på «TEMA»-øvingane våre\, og på 17. mai. Når me skipar til leikfest og stordanskveld blir det òg dansa songdans/stordans.
URL:https://www.bul.no/hending/oving-songdans-2/2026-03-31/
LOCATION:Lagsrommet\, Nynorskens hus\, Rosenkrantz' gate 8\, Oslo\, Norge
CATEGORIES:Dans - ungdom-vaksne,Leikarringen
ATTACH;FMTTYPE=image/jpeg:https://www.bul.no/wp-content/uploads/2025/10/Songdans-e1759488418175.avif
END:VEVENT
BEGIN:VEVENT
DTSTART;TZID=Europe/Oslo:20260330T100000
DTEND;TZID=Europe/Oslo:20260330T170000
DTSTAMP:20260421T120805
CREATED:20260323T124352Z
LAST-MODIFIED:20260324T093154Z
UID:10002452-1774864800-1774890000@www.bul.no
SUMMARY:Ekstern: Utstillinga “Testimonial from Beyond”
DESCRIPTION:Utstillinga “Testimonial from Beyond” løfter frem vitnesbyrd om dei alvorlege overgrepa utført av den burmesiske militærjuntaen sidan kuppet i 2021.\nGjennom personlege eigedelar\, fotografi og korte videodokumentarar\, blir mellom anna luftangrepea i Pazigyi\, angrepet på ein skule i Depayin og andre voldshandlingar over heile Myanmar\, dokumentert.\nDette er ikkje for å vise sjokkerande bilde\, men for å æra menneskeleg verdigheit – og skapa forståing\, solidaritet og handling.\n\nHer kan du sjå hendinga på facebook.
URL:https://www.bul.no/hending/ekstern-utstillinga-testimonial-from-beyond/2026-03-30/
LOCATION:Lagsrommet\, Nynorskens hus\, Rosenkrantz' gate 8\, Oslo\, Norge
CATEGORIES:Utstilling
ATTACH;FMTTYPE=image/jpeg:https://www.bul.no/wp-content/uploads/2026/03/myanmar-utstilling.avif
END:VEVENT
BEGIN:VEVENT
DTSTART;TZID=Europe/Oslo:20260329T100000
DTEND;TZID=Europe/Oslo:20260329T170000
DTSTAMP:20260421T120805
CREATED:20260323T124352Z
LAST-MODIFIED:20260324T093154Z
UID:10002451-1774778400-1774803600@www.bul.no
SUMMARY:Ekstern: Utstillinga “Testimonial from Beyond”
DESCRIPTION:Utstillinga “Testimonial from Beyond” løfter frem vitnesbyrd om dei alvorlege overgrepa utført av den burmesiske militærjuntaen sidan kuppet i 2021.\nGjennom personlege eigedelar\, fotografi og korte videodokumentarar\, blir mellom anna luftangrepea i Pazigyi\, angrepet på ein skule i Depayin og andre voldshandlingar over heile Myanmar\, dokumentert.\nDette er ikkje for å vise sjokkerande bilde\, men for å æra menneskeleg verdigheit – og skapa forståing\, solidaritet og handling.\n\nHer kan du sjå hendinga på facebook.
URL:https://www.bul.no/hending/ekstern-utstillinga-testimonial-from-beyond/2026-03-29/
LOCATION:Lagsrommet\, Nynorskens hus\, Rosenkrantz' gate 8\, Oslo\, Norge
CATEGORIES:Utstilling
ATTACH;FMTTYPE=image/jpeg:https://www.bul.no/wp-content/uploads/2026/03/myanmar-utstilling.avif
END:VEVENT
BEGIN:VEVENT
DTSTART;TZID=Europe/Oslo:20260328T100000
DTEND;TZID=Europe/Oslo:20260328T170000
DTSTAMP:20260421T120805
CREATED:20260323T124352Z
LAST-MODIFIED:20260324T093154Z
UID:10002450-1774692000-1774717200@www.bul.no
SUMMARY:Ekstern: Utstillinga “Testimonial from Beyond”
DESCRIPTION:Utstillinga “Testimonial from Beyond” løfter frem vitnesbyrd om dei alvorlege overgrepa utført av den burmesiske militærjuntaen sidan kuppet i 2021.\nGjennom personlege eigedelar\, fotografi og korte videodokumentarar\, blir mellom anna luftangrepea i Pazigyi\, angrepet på ein skule i Depayin og andre voldshandlingar over heile Myanmar\, dokumentert.\nDette er ikkje for å vise sjokkerande bilde\, men for å æra menneskeleg verdigheit – og skapa forståing\, solidaritet og handling.\n\nHer kan du sjå hendinga på facebook.
URL:https://www.bul.no/hending/ekstern-utstillinga-testimonial-from-beyond/2026-03-28/
LOCATION:Lagsrommet\, Nynorskens hus\, Rosenkrantz' gate 8\, Oslo\, Norge
CATEGORIES:Utstilling
ATTACH;FMTTYPE=image/jpeg:https://www.bul.no/wp-content/uploads/2026/03/myanmar-utstilling.avif
END:VEVENT
BEGIN:VEVENT
DTSTART;TZID=Europe/Oslo:20260327T100000
DTEND;TZID=Europe/Oslo:20260327T170000
DTSTAMP:20260421T120805
CREATED:20260323T124352Z
LAST-MODIFIED:20260324T093154Z
UID:10002449-1774605600-1774630800@www.bul.no
SUMMARY:Ekstern: Utstillinga “Testimonial from Beyond”
DESCRIPTION:Utstillinga “Testimonial from Beyond” løfter frem vitnesbyrd om dei alvorlege overgrepa utført av den burmesiske militærjuntaen sidan kuppet i 2021.\nGjennom personlege eigedelar\, fotografi og korte videodokumentarar\, blir mellom anna luftangrepea i Pazigyi\, angrepet på ein skule i Depayin og andre voldshandlingar over heile Myanmar\, dokumentert.\nDette er ikkje for å vise sjokkerande bilde\, men for å æra menneskeleg verdigheit – og skapa forståing\, solidaritet og handling.\n\nHer kan du sjå hendinga på facebook.
URL:https://www.bul.no/hending/ekstern-utstillinga-testimonial-from-beyond/2026-03-27/
LOCATION:Lagsrommet\, Nynorskens hus\, Rosenkrantz' gate 8\, Oslo\, Norge
CATEGORIES:Utstilling
ATTACH;FMTTYPE=image/jpeg:https://www.bul.no/wp-content/uploads/2026/03/myanmar-utstilling.avif
END:VEVENT
BEGIN:VEVENT
DTSTART;TZID=Europe/Oslo:20260326T163000
DTEND;TZID=Europe/Oslo:20260326T183000
DTSTAMP:20260421T120805
CREATED:20260204T080732Z
LAST-MODIFIED:20260204T080732Z
UID:10002401-1774542600-1774549800@www.bul.no
SUMMARY:Øving: Den mangfaldige scenen (DMS)
DESCRIPTION:Den Mangfaldige Scenen (DMS) er eit barne- og ungdomsteater der unge mellom 6 og 28 år får uttrykke seg\, lære og skape teater. \nDMS er eit samarbeid mellom Det Norske Teatret\, Bondeungdomslaget i Oslo og Noregs Ungdomslag
URL:https://www.bul.no/hending/oving-den-mangfaldige-scenen-dms-5/2026-03-26/
LOCATION:Teatersalen\, Nynorskens hus\, Rosenkrantz' gate 8\, Oslo\, Norge
CATEGORIES:Den mangfaldige scenen,Teater
ATTACH;FMTTYPE=image/jpeg:https://www.bul.no/wp-content/uploads/2025/10/DMS-oving-bilde-e1759409862848.avif
ORGANIZER;CN="Den mangfaldige scenen":MAILTO:post@mangfaldige.no
END:VEVENT
BEGIN:VEVENT
DTSTART;TZID=Europe/Oslo:20260326T100000
DTEND;TZID=Europe/Oslo:20260326T170000
DTSTAMP:20260421T120805
CREATED:20260323T124352Z
LAST-MODIFIED:20260324T093154Z
UID:10002448-1774519200-1774544400@www.bul.no
SUMMARY:Ekstern: Utstillinga “Testimonial from Beyond”
DESCRIPTION:Utstillinga “Testimonial from Beyond” løfter frem vitnesbyrd om dei alvorlege overgrepa utført av den burmesiske militærjuntaen sidan kuppet i 2021.\nGjennom personlege eigedelar\, fotografi og korte videodokumentarar\, blir mellom anna luftangrepea i Pazigyi\, angrepet på ein skule i Depayin og andre voldshandlingar over heile Myanmar\, dokumentert.\nDette er ikkje for å vise sjokkerande bilde\, men for å æra menneskeleg verdigheit – og skapa forståing\, solidaritet og handling.\n\nHer kan du sjå hendinga på facebook.
URL:https://www.bul.no/hending/ekstern-utstillinga-testimonial-from-beyond/2026-03-26/
LOCATION:Lagsrommet\, Nynorskens hus\, Rosenkrantz' gate 8\, Oslo\, Norge
CATEGORIES:Utstilling
ATTACH;FMTTYPE=image/jpeg:https://www.bul.no/wp-content/uploads/2026/03/myanmar-utstilling.avif
END:VEVENT
BEGIN:VEVENT
DTSTART;TZID=Europe/Oslo:20260324T180000
DTEND;TZID=Europe/Oslo:20260324T193000
DTSTAMP:20260421T120805
CREATED:20260204T070754Z
LAST-MODIFIED:20260204T070754Z
UID:10002220-1774375200-1774380600@www.bul.no
SUMMARY:Øving: Songdans
DESCRIPTION:Songdans har alltid hatt ein spesiell plass i Leikarringen. I dag har me ei eiga songdansgruppe som øver tysdagar kl. 18.00-19.30. Songdansen har òg ein naturleg plass på «TEMA»-øvingane våre\, og på 17. mai. Når me skipar til leikfest og stordanskveld blir det òg dansa songdans/stordans.
URL:https://www.bul.no/hending/oving-songdans-2/2026-03-24/
LOCATION:Lagsrommet\, Nynorskens hus\, Rosenkrantz' gate 8\, Oslo\, Norge
CATEGORIES:Dans - ungdom-vaksne,Leikarringen
ATTACH;FMTTYPE=image/jpeg:https://www.bul.no/wp-content/uploads/2025/10/Songdans-e1759488418175.avif
END:VEVENT
BEGIN:VEVENT
DTSTART;TZID=Europe/Oslo:20260323T170000
DTEND;TZID=Europe/Oslo:20260323T190000
DTSTAMP:20260421T120805
CREATED:20260204T080134Z
LAST-MODIFIED:20260204T080134Z
UID:10002371-1774285200-1774292400@www.bul.no
SUMMARY:Øving: Den mangfaldige scenen (DMS)
DESCRIPTION:Den Mangfaldige Scenen (DMS) er eit barne- og ungdomsteater der unge mellom 6 og 28 år får uttrykke seg\, lære og skape teater. \nDMS er eit samarbeid mellom Det Norske Teatret\, Bondeungdomslaget i Oslo og Noregs Ungdomslag
URL:https://www.bul.no/hending/oving-den-mangfaldige-scenen-dms-4/2026-03-23/
LOCATION:Lagsrommet\, Nynorskens hus\, Rosenkrantz' gate 8\, Oslo\, Norge
CATEGORIES:Den mangfaldige scenen,Teater
ATTACH;FMTTYPE=image/jpeg:https://www.bul.no/wp-content/uploads/2025/10/DMS-oving-shwan-e1759410414861.avif
ORGANIZER;CN="Den mangfaldige scenen":MAILTO:post@mangfaldige.no
END:VEVENT
BEGIN:VEVENT
DTSTART;TZID=Europe/Oslo:20260319T163000
DTEND;TZID=Europe/Oslo:20260319T183000
DTSTAMP:20260421T120805
CREATED:20260204T080732Z
LAST-MODIFIED:20260204T080732Z
UID:10002400-1773937800-1773945000@www.bul.no
SUMMARY:Øving: Den mangfaldige scenen (DMS)
DESCRIPTION:Den Mangfaldige Scenen (DMS) er eit barne- og ungdomsteater der unge mellom 6 og 28 år får uttrykke seg\, lære og skape teater. \nDMS er eit samarbeid mellom Det Norske Teatret\, Bondeungdomslaget i Oslo og Noregs Ungdomslag
URL:https://www.bul.no/hending/oving-den-mangfaldige-scenen-dms-5/2026-03-19/
LOCATION:Teatersalen\, Nynorskens hus\, Rosenkrantz' gate 8\, Oslo\, Norge
CATEGORIES:Den mangfaldige scenen,Teater
ATTACH;FMTTYPE=image/jpeg:https://www.bul.no/wp-content/uploads/2025/10/DMS-oving-bilde-e1759409862848.avif
ORGANIZER;CN="Den mangfaldige scenen":MAILTO:post@mangfaldige.no
END:VEVENT
BEGIN:VEVENT
DTSTART;TZID=Europe/Oslo:20260318T193000
DTEND;TZID=Europe/Oslo:20260318T210000
DTSTAMP:20260421T120805
CREATED:20260204T071513Z
LAST-MODIFIED:20260204T071513Z
UID:10002288-1773862200-1773867600@www.bul.no
SUMMARY:Øving: Grunnkurs Leikarringen
DESCRIPTION:Leikarringen i BUL Oslo er ei dansegruppe som dansar det meste av norsk folkedans: runddans (gammaldans)\, turdansar\, bygdedans\, songdans og 1900-talsdansar som swing og tango. \nMedlemmar går gratis på alle våre aktivitetar. Du kan melde deg inn her. \nEr du ikkje medlem kan du likevel vere med på: \n\nTysdagsøvinga: kr. 70\,– pr. gong.\nGrunnkurs i folkedans: kr. 70\,– pr. gong.
URL:https://www.bul.no/hending/oving-grunnkurs-leikarringen-2/2026-03-18/
LOCATION:Lagsrommet\, Nynorskens hus\, Rosenkrantz' gate 8\, Oslo\, Norge
CATEGORIES:Dans - ungdom-vaksne,Leikarringen
ATTACH;FMTTYPE=image/jpeg:https://www.bul.no/wp-content/uploads/2025/10/Grunnkurs-Leikarringen-e1759491986669.avif
END:VEVENT
BEGIN:VEVENT
DTSTART;TZID=Europe/Oslo:20260317T180000
DTEND;TZID=Europe/Oslo:20260317T193000
DTSTAMP:20260421T120805
CREATED:20260204T070754Z
LAST-MODIFIED:20260204T070754Z
UID:10002219-1773770400-1773775800@www.bul.no
SUMMARY:Øving: Songdans
DESCRIPTION:Songdans har alltid hatt ein spesiell plass i Leikarringen. I dag har me ei eiga songdansgruppe som øver tysdagar kl. 18.00-19.30. Songdansen har òg ein naturleg plass på «TEMA»-øvingane våre\, og på 17. mai. Når me skipar til leikfest og stordanskveld blir det òg dansa songdans/stordans.
URL:https://www.bul.no/hending/oving-songdans-2/2026-03-17/
LOCATION:Lagsrommet\, Nynorskens hus\, Rosenkrantz' gate 8\, Oslo\, Norge
CATEGORIES:Dans - ungdom-vaksne,Leikarringen
ATTACH;FMTTYPE=image/jpeg:https://www.bul.no/wp-content/uploads/2025/10/Songdans-e1759488418175.avif
END:VEVENT
BEGIN:VEVENT
DTSTART;TZID=Europe/Oslo:20260312T163000
DTEND;TZID=Europe/Oslo:20260312T183000
DTSTAMP:20260421T120805
CREATED:20260204T080732Z
LAST-MODIFIED:20260204T080732Z
UID:10002399-1773333000-1773340200@www.bul.no
SUMMARY:Øving: Den mangfaldige scenen (DMS)
DESCRIPTION:Den Mangfaldige Scenen (DMS) er eit barne- og ungdomsteater der unge mellom 6 og 28 år får uttrykke seg\, lære og skape teater. \nDMS er eit samarbeid mellom Det Norske Teatret\, Bondeungdomslaget i Oslo og Noregs Ungdomslag
URL:https://www.bul.no/hending/oving-den-mangfaldige-scenen-dms-5/2026-03-12/
LOCATION:Teatersalen\, Nynorskens hus\, Rosenkrantz' gate 8\, Oslo\, Norge
CATEGORIES:Den mangfaldige scenen,Teater
ATTACH;FMTTYPE=image/jpeg:https://www.bul.no/wp-content/uploads/2025/10/DMS-oving-bilde-e1759409862848.avif
ORGANIZER;CN="Den mangfaldige scenen":MAILTO:post@mangfaldige.no
END:VEVENT
BEGIN:VEVENT
DTSTART;TZID=Europe/Oslo:20260311T193000
DTEND;TZID=Europe/Oslo:20260311T210000
DTSTAMP:20260421T120805
CREATED:20260204T071513Z
LAST-MODIFIED:20260204T071513Z
UID:10002287-1773257400-1773262800@www.bul.no
SUMMARY:Øving: Grunnkurs Leikarringen
DESCRIPTION:Leikarringen i BUL Oslo er ei dansegruppe som dansar det meste av norsk folkedans: runddans (gammaldans)\, turdansar\, bygdedans\, songdans og 1900-talsdansar som swing og tango. \nMedlemmar går gratis på alle våre aktivitetar. Du kan melde deg inn her. \nEr du ikkje medlem kan du likevel vere med på: \n\nTysdagsøvinga: kr. 70\,– pr. gong.\nGrunnkurs i folkedans: kr. 70\,– pr. gong.
URL:https://www.bul.no/hending/oving-grunnkurs-leikarringen-2/2026-03-11/
LOCATION:Lagsrommet\, Nynorskens hus\, Rosenkrantz' gate 8\, Oslo\, Norge
CATEGORIES:Dans - ungdom-vaksne,Leikarringen
ATTACH;FMTTYPE=image/jpeg:https://www.bul.no/wp-content/uploads/2025/10/Grunnkurs-Leikarringen-e1759491986669.avif
END:VEVENT
BEGIN:VEVENT
DTSTART;TZID=Europe/Oslo:20260310T180000
DTEND;TZID=Europe/Oslo:20260310T193000
DTSTAMP:20260421T120805
CREATED:20260204T070754Z
LAST-MODIFIED:20260204T070754Z
UID:10002218-1773165600-1773171000@www.bul.no
SUMMARY:Øving: Songdans
DESCRIPTION:Songdans har alltid hatt ein spesiell plass i Leikarringen. I dag har me ei eiga songdansgruppe som øver tysdagar kl. 18.00-19.30. Songdansen har òg ein naturleg plass på «TEMA»-øvingane våre\, og på 17. mai. Når me skipar til leikfest og stordanskveld blir det òg dansa songdans/stordans.
URL:https://www.bul.no/hending/oving-songdans-2/2026-03-10/
LOCATION:Lagsrommet\, Nynorskens hus\, Rosenkrantz' gate 8\, Oslo\, Norge
CATEGORIES:Dans - ungdom-vaksne,Leikarringen
ATTACH;FMTTYPE=image/jpeg:https://www.bul.no/wp-content/uploads/2025/10/Songdans-e1759488418175.avif
END:VEVENT
BEGIN:VEVENT
DTSTART;TZID=Europe/Oslo:20260309T170000
DTEND;TZID=Europe/Oslo:20260309T190000
DTSTAMP:20260421T120805
CREATED:20260204T080134Z
LAST-MODIFIED:20260204T080134Z
UID:10002370-1773075600-1773082800@www.bul.no
SUMMARY:Øving: Den mangfaldige scenen (DMS)
DESCRIPTION:Den Mangfaldige Scenen (DMS) er eit barne- og ungdomsteater der unge mellom 6 og 28 år får uttrykke seg\, lære og skape teater. \nDMS er eit samarbeid mellom Det Norske Teatret\, Bondeungdomslaget i Oslo og Noregs Ungdomslag
URL:https://www.bul.no/hending/oving-den-mangfaldige-scenen-dms-4/2026-03-09/
LOCATION:Lagsrommet\, Nynorskens hus\, Rosenkrantz' gate 8\, Oslo\, Norge
CATEGORIES:Den mangfaldige scenen,Teater
ATTACH;FMTTYPE=image/jpeg:https://www.bul.no/wp-content/uploads/2025/10/DMS-oving-shwan-e1759410414861.avif
ORGANIZER;CN="Den mangfaldige scenen":MAILTO:post@mangfaldige.no
END:VEVENT
BEGIN:VEVENT
DTSTART;TZID=Europe/Oslo:20260305T163000
DTEND;TZID=Europe/Oslo:20260305T183000
DTSTAMP:20260421T120805
CREATED:20260204T080732Z
LAST-MODIFIED:20260204T080732Z
UID:10002398-1772728200-1772735400@www.bul.no
SUMMARY:Øving: Den mangfaldige scenen (DMS)
DESCRIPTION:Den Mangfaldige Scenen (DMS) er eit barne- og ungdomsteater der unge mellom 6 og 28 år får uttrykke seg\, lære og skape teater. \nDMS er eit samarbeid mellom Det Norske Teatret\, Bondeungdomslaget i Oslo og Noregs Ungdomslag
URL:https://www.bul.no/hending/oving-den-mangfaldige-scenen-dms-5/2026-03-05/
LOCATION:Teatersalen\, Nynorskens hus\, Rosenkrantz' gate 8\, Oslo\, Norge
CATEGORIES:Den mangfaldige scenen,Teater
ATTACH;FMTTYPE=image/jpeg:https://www.bul.no/wp-content/uploads/2025/10/DMS-oving-bilde-e1759409862848.avif
ORGANIZER;CN="Den mangfaldige scenen":MAILTO:post@mangfaldige.no
END:VEVENT
BEGIN:VEVENT
DTSTART;TZID=Europe/Oslo:20260304T193000
DTEND;TZID=Europe/Oslo:20260304T210000
DTSTAMP:20260421T120805
CREATED:20260204T071513Z
LAST-MODIFIED:20260204T071513Z
UID:10002286-1772652600-1772658000@www.bul.no
SUMMARY:Øving: Grunnkurs Leikarringen
DESCRIPTION:Leikarringen i BUL Oslo er ei dansegruppe som dansar det meste av norsk folkedans: runddans (gammaldans)\, turdansar\, bygdedans\, songdans og 1900-talsdansar som swing og tango. \nMedlemmar går gratis på alle våre aktivitetar. Du kan melde deg inn her. \nEr du ikkje medlem kan du likevel vere med på: \n\nTysdagsøvinga: kr. 70\,– pr. gong.\nGrunnkurs i folkedans: kr. 70\,– pr. gong.
URL:https://www.bul.no/hending/oving-grunnkurs-leikarringen-2/2026-03-04/
LOCATION:Lagsrommet\, Nynorskens hus\, Rosenkrantz' gate 8\, Oslo\, Norge
CATEGORIES:Dans - ungdom-vaksne,Leikarringen
ATTACH;FMTTYPE=image/jpeg:https://www.bul.no/wp-content/uploads/2025/10/Grunnkurs-Leikarringen-e1759491986669.avif
END:VEVENT
BEGIN:VEVENT
DTSTART;TZID=Europe/Oslo:20260303T180000
DTEND;TZID=Europe/Oslo:20260303T193000
DTSTAMP:20260421T120805
CREATED:20260204T070754Z
LAST-MODIFIED:20260204T070754Z
UID:10002217-1772560800-1772566200@www.bul.no
SUMMARY:Øving: Songdans
DESCRIPTION:Songdans har alltid hatt ein spesiell plass i Leikarringen. I dag har me ei eiga songdansgruppe som øver tysdagar kl. 18.00-19.30. Songdansen har òg ein naturleg plass på «TEMA»-øvingane våre\, og på 17. mai. Når me skipar til leikfest og stordanskveld blir det òg dansa songdans/stordans.
URL:https://www.bul.no/hending/oving-songdans-2/2026-03-03/
LOCATION:Lagsrommet\, Nynorskens hus\, Rosenkrantz' gate 8\, Oslo\, Norge
CATEGORIES:Dans - ungdom-vaksne,Leikarringen
ATTACH;FMTTYPE=image/jpeg:https://www.bul.no/wp-content/uploads/2025/10/Songdans-e1759488418175.avif
END:VEVENT
BEGIN:VEVENT
DTSTART;TZID=Europe/Oslo:20260226T163000
DTEND;TZID=Europe/Oslo:20260226T183000
DTSTAMP:20260421T120805
CREATED:20260204T080732Z
LAST-MODIFIED:20260204T080732Z
UID:10002397-1772123400-1772130600@www.bul.no
SUMMARY:Øving: Den mangfaldige scenen (DMS)
DESCRIPTION:Den Mangfaldige Scenen (DMS) er eit barne- og ungdomsteater der unge mellom 6 og 28 år får uttrykke seg\, lære og skape teater. \nDMS er eit samarbeid mellom Det Norske Teatret\, Bondeungdomslaget i Oslo og Noregs Ungdomslag
URL:https://www.bul.no/hending/oving-den-mangfaldige-scenen-dms-5/2026-02-26/
LOCATION:Teatersalen\, Nynorskens hus\, Rosenkrantz' gate 8\, Oslo\, Norge
CATEGORIES:Den mangfaldige scenen,Teater
ATTACH;FMTTYPE=image/jpeg:https://www.bul.no/wp-content/uploads/2025/10/DMS-oving-bilde-e1759409862848.avif
ORGANIZER;CN="Den mangfaldige scenen":MAILTO:post@mangfaldige.no
END:VEVENT
BEGIN:VEVENT
DTSTART;TZID=Europe/Oslo:20260225T193000
DTEND;TZID=Europe/Oslo:20260225T210000
DTSTAMP:20260421T120805
CREATED:20260204T071513Z
LAST-MODIFIED:20260204T071513Z
UID:10002285-1772047800-1772053200@www.bul.no
SUMMARY:Øving: Grunnkurs Leikarringen
DESCRIPTION:Leikarringen i BUL Oslo er ei dansegruppe som dansar det meste av norsk folkedans: runddans (gammaldans)\, turdansar\, bygdedans\, songdans og 1900-talsdansar som swing og tango. \nMedlemmar går gratis på alle våre aktivitetar. Du kan melde deg inn her. \nEr du ikkje medlem kan du likevel vere med på: \n\nTysdagsøvinga: kr. 70\,– pr. gong.\nGrunnkurs i folkedans: kr. 70\,– pr. gong.
URL:https://www.bul.no/hending/oving-grunnkurs-leikarringen-2/2026-02-25/
LOCATION:Lagsrommet\, Nynorskens hus\, Rosenkrantz' gate 8\, Oslo\, Norge
CATEGORIES:Dans - ungdom-vaksne,Leikarringen
ATTACH;FMTTYPE=image/jpeg:https://www.bul.no/wp-content/uploads/2025/10/Grunnkurs-Leikarringen-e1759491986669.avif
END:VEVENT
BEGIN:VEVENT
DTSTART;TZID=Europe/Oslo:20260223T170000
DTEND;TZID=Europe/Oslo:20260223T190000
DTSTAMP:20260421T120805
CREATED:20260204T080134Z
LAST-MODIFIED:20260204T080134Z
UID:10002369-1771866000-1771873200@www.bul.no
SUMMARY:Øving: Den mangfaldige scenen (DMS)
DESCRIPTION:Den Mangfaldige Scenen (DMS) er eit barne- og ungdomsteater der unge mellom 6 og 28 år får uttrykke seg\, lære og skape teater. \nDMS er eit samarbeid mellom Det Norske Teatret\, Bondeungdomslaget i Oslo og Noregs Ungdomslag
URL:https://www.bul.no/hending/oving-den-mangfaldige-scenen-dms-4/2026-02-23/
LOCATION:Lagsrommet\, Nynorskens hus\, Rosenkrantz' gate 8\, Oslo\, Norge
CATEGORIES:Den mangfaldige scenen,Teater
ATTACH;FMTTYPE=image/jpeg:https://www.bul.no/wp-content/uploads/2025/10/DMS-oving-shwan-e1759410414861.avif
ORGANIZER;CN="Den mangfaldige scenen":MAILTO:post@mangfaldige.no
END:VEVENT
BEGIN:VEVENT
DTSTART;TZID=Europe/Oslo:20260219T163000
DTEND;TZID=Europe/Oslo:20260219T183000
DTSTAMP:20260421T120805
CREATED:20260204T080732Z
LAST-MODIFIED:20260204T080732Z
UID:10002396-1771518600-1771525800@www.bul.no
SUMMARY:Øving: Den mangfaldige scenen (DMS)
DESCRIPTION:Den Mangfaldige Scenen (DMS) er eit barne- og ungdomsteater der unge mellom 6 og 28 år får uttrykke seg\, lære og skape teater. \nDMS er eit samarbeid mellom Det Norske Teatret\, Bondeungdomslaget i Oslo og Noregs Ungdomslag
URL:https://www.bul.no/hending/oving-den-mangfaldige-scenen-dms-5/2026-02-19/
LOCATION:Teatersalen\, Nynorskens hus\, Rosenkrantz' gate 8\, Oslo\, Norge
CATEGORIES:Den mangfaldige scenen,Teater
ATTACH;FMTTYPE=image/jpeg:https://www.bul.no/wp-content/uploads/2025/10/DMS-oving-bilde-e1759409862848.avif
ORGANIZER;CN="Den mangfaldige scenen":MAILTO:post@mangfaldige.no
END:VEVENT
BEGIN:VEVENT
DTSTART;TZID=Europe/Oslo:20260218T193000
DTEND;TZID=Europe/Oslo:20260218T210000
DTSTAMP:20260421T120805
CREATED:20260204T071513Z
LAST-MODIFIED:20260204T071513Z
UID:10002284-1771443000-1771448400@www.bul.no
SUMMARY:Øving: Grunnkurs Leikarringen
DESCRIPTION:Leikarringen i BUL Oslo er ei dansegruppe som dansar det meste av norsk folkedans: runddans (gammaldans)\, turdansar\, bygdedans\, songdans og 1900-talsdansar som swing og tango. \nMedlemmar går gratis på alle våre aktivitetar. Du kan melde deg inn her. \nEr du ikkje medlem kan du likevel vere med på: \n\nTysdagsøvinga: kr. 70\,– pr. gong.\nGrunnkurs i folkedans: kr. 70\,– pr. gong.
URL:https://www.bul.no/hending/oving-grunnkurs-leikarringen-2/2026-02-18/
LOCATION:Lagsrommet\, Nynorskens hus\, Rosenkrantz' gate 8\, Oslo\, Norge
CATEGORIES:Dans - ungdom-vaksne,Leikarringen
ATTACH;FMTTYPE=image/jpeg:https://www.bul.no/wp-content/uploads/2025/10/Grunnkurs-Leikarringen-e1759491986669.avif
END:VEVENT
BEGIN:VEVENT
DTSTART;TZID=Europe/Oslo:20260217T180000
DTEND;TZID=Europe/Oslo:20260217T193000
DTSTAMP:20260421T120805
CREATED:20260204T070754Z
LAST-MODIFIED:20260204T070754Z
UID:10002216-1771351200-1771356600@www.bul.no
SUMMARY:Øving: Songdans
DESCRIPTION:Songdans har alltid hatt ein spesiell plass i Leikarringen. I dag har me ei eiga songdansgruppe som øver tysdagar kl. 18.00-19.30. Songdansen har òg ein naturleg plass på «TEMA»-øvingane våre\, og på 17. mai. Når me skipar til leikfest og stordanskveld blir det òg dansa songdans/stordans.
URL:https://www.bul.no/hending/oving-songdans-2/2026-02-17/
LOCATION:Lagsrommet\, Nynorskens hus\, Rosenkrantz' gate 8\, Oslo\, Norge
CATEGORIES:Dans - ungdom-vaksne,Leikarringen
ATTACH;FMTTYPE=image/jpeg:https://www.bul.no/wp-content/uploads/2025/10/Songdans-e1759488418175.avif
END:VEVENT
BEGIN:VEVENT
DTSTART;TZID=Europe/Oslo:20260212T163000
DTEND;TZID=Europe/Oslo:20260212T183000
DTSTAMP:20260421T120805
CREATED:20260204T080732Z
LAST-MODIFIED:20260204T080732Z
UID:10002395-1770913800-1770921000@www.bul.no
SUMMARY:Øving: Den mangfaldige scenen (DMS)
DESCRIPTION:Den Mangfaldige Scenen (DMS) er eit barne- og ungdomsteater der unge mellom 6 og 28 år får uttrykke seg\, lære og skape teater. \nDMS er eit samarbeid mellom Det Norske Teatret\, Bondeungdomslaget i Oslo og Noregs Ungdomslag
URL:https://www.bul.no/hending/oving-den-mangfaldige-scenen-dms-5/2026-02-12/
LOCATION:Teatersalen\, Nynorskens hus\, Rosenkrantz' gate 8\, Oslo\, Norge
CATEGORIES:Den mangfaldige scenen,Teater
ATTACH;FMTTYPE=image/jpeg:https://www.bul.no/wp-content/uploads/2025/10/DMS-oving-bilde-e1759409862848.avif
ORGANIZER;CN="Den mangfaldige scenen":MAILTO:post@mangfaldige.no
END:VEVENT
BEGIN:VEVENT
DTSTART;TZID=Europe/Oslo:20260211T180000
DTEND;TZID=Europe/Oslo:20260211T193000
DTSTAMP:20260421T120805
CREATED:20260127T095507Z
LAST-MODIFIED:20260127T100118Z
UID:10002098-1770832800-1770838200@www.bul.no
SUMMARY:Kvifor Nynorsk? Gratis inspirasjonsføredrag med Kristin Fridtun
DESCRIPTION:Målnemnda i BUL Oslo inviterer til inspirasjonsføredraget «Kvifor nynorsk?» ved forfattar\, filolog og Dag og Tid-spaltist Kristin Fridtun.\nI Bondeungdomslaget i Oslo bruker me nynorsk\, men kva er grunnen til det? Kom og høyr om soga og ideane bak nynorsken og målreisinga.\n\nAlle er hjarteleg velkomne!\n\nOnsdag 11. februar 2026 klokka 18.00-19.30.\nLagsrommet\, Nynorskens hus.\n\n\nFoto: Lene Sørøy Neverdal
URL:https://www.bul.no/hending/kvifor-nynorsk-gratis-inspirasjonsforedrag-med-kristin-fridtun/
LOCATION:Lagsrommet\, Nynorskens hus\, Rosenkrantz' gate 8\, Oslo\, Norge
CATEGORIES:BUL,Føredrag,Målnemnda
ATTACH;FMTTYPE=image/png:https://www.bul.no/wp-content/uploads/2026/01/Kvifor-nynorsk-Inspirasjonsforedrag-med-Kristin-Fridtun.avif
ORGANIZER;CN="BUL Oslo":MAILTO:lagskontor@bul.no
END:VEVENT
BEGIN:VEVENT
DTSTART;TZID=Europe/Oslo:20260210T180000
DTEND;TZID=Europe/Oslo:20260210T193000
DTSTAMP:20260421T120805
CREATED:20260204T070754Z
LAST-MODIFIED:20260204T070754Z
UID:10002215-1770746400-1770751800@www.bul.no
SUMMARY:Øving: Songdans
DESCRIPTION:Songdans har alltid hatt ein spesiell plass i Leikarringen. I dag har me ei eiga songdansgruppe som øver tysdagar kl. 18.00-19.30. Songdansen har òg ein naturleg plass på «TEMA»-øvingane våre\, og på 17. mai. Når me skipar til leikfest og stordanskveld blir det òg dansa songdans/stordans.
URL:https://www.bul.no/hending/oving-songdans-2/2026-02-10/
LOCATION:Lagsrommet\, Nynorskens hus\, Rosenkrantz' gate 8\, Oslo\, Norge
CATEGORIES:Dans - ungdom-vaksne,Leikarringen
ATTACH;FMTTYPE=image/jpeg:https://www.bul.no/wp-content/uploads/2025/10/Songdans-e1759488418175.avif
END:VEVENT
BEGIN:VEVENT
DTSTART;TZID=Europe/Oslo:20260209T170000
DTEND;TZID=Europe/Oslo:20260209T190000
DTSTAMP:20260421T120805
CREATED:20260204T080134Z
LAST-MODIFIED:20260204T080134Z
UID:10002368-1770656400-1770663600@www.bul.no
SUMMARY:Øving: Den mangfaldige scenen (DMS)
DESCRIPTION:Den Mangfaldige Scenen (DMS) er eit barne- og ungdomsteater der unge mellom 6 og 28 år får uttrykke seg\, lære og skape teater. \nDMS er eit samarbeid mellom Det Norske Teatret\, Bondeungdomslaget i Oslo og Noregs Ungdomslag
URL:https://www.bul.no/hending/oving-den-mangfaldige-scenen-dms-4/2026-02-09/
LOCATION:Lagsrommet\, Nynorskens hus\, Rosenkrantz' gate 8\, Oslo\, Norge
CATEGORIES:Den mangfaldige scenen,Teater
ATTACH;FMTTYPE=image/jpeg:https://www.bul.no/wp-content/uploads/2025/10/DMS-oving-shwan-e1759410414861.avif
ORGANIZER;CN="Den mangfaldige scenen":MAILTO:post@mangfaldige.no
END:VEVENT
BEGIN:VEVENT
DTSTART;TZID=Europe/Oslo:20260205T163000
DTEND;TZID=Europe/Oslo:20260205T183000
DTSTAMP:20260421T120805
CREATED:20260204T080732Z
LAST-MODIFIED:20260204T080732Z
UID:10002394-1770309000-1770316200@www.bul.no
SUMMARY:Øving: Den mangfaldige scenen (DMS)
DESCRIPTION:Den Mangfaldige Scenen (DMS) er eit barne- og ungdomsteater der unge mellom 6 og 28 år får uttrykke seg\, lære og skape teater. \nDMS er eit samarbeid mellom Det Norske Teatret\, Bondeungdomslaget i Oslo og Noregs Ungdomslag
URL:https://www.bul.no/hending/oving-den-mangfaldige-scenen-dms-5/2026-02-05/
LOCATION:Teatersalen\, Nynorskens hus\, Rosenkrantz' gate 8\, Oslo\, Norge
CATEGORIES:Den mangfaldige scenen,Teater
ATTACH;FMTTYPE=image/jpeg:https://www.bul.no/wp-content/uploads/2025/10/DMS-oving-bilde-e1759409862848.avif
ORGANIZER;CN="Den mangfaldige scenen":MAILTO:post@mangfaldige.no
END:VEVENT
END:VCALENDAR