BEGIN:VCALENDAR
VERSION:2.0
PRODID:-//Bondeungdomslaget i Oslo - ECPv6.15.20//NONSGML v1.0//EN
CALSCALE:GREGORIAN
METHOD:PUBLISH
X-WR-CALNAME:Bondeungdomslaget i Oslo
X-ORIGINAL-URL:https://www.bul.no
X-WR-CALDESC:Hendingar for Bondeungdomslaget i Oslo
REFRESH-INTERVAL;VALUE=DURATION:PT1H
X-Robots-Tag:noindex
X-PUBLISHED-TTL:PT1H
BEGIN:VTIMEZONE
TZID:Europe/Oslo
BEGIN:DAYLIGHT
TZOFFSETFROM:+0100
TZOFFSETTO:+0200
TZNAME:CEST
DTSTART:20240331T010000
END:DAYLIGHT
BEGIN:STANDARD
TZOFFSETFROM:+0200
TZOFFSETTO:+0100
TZNAME:CET
DTSTART:20241027T010000
END:STANDARD
BEGIN:DAYLIGHT
TZOFFSETFROM:+0100
TZOFFSETTO:+0200
TZNAME:CEST
DTSTART:20250330T010000
END:DAYLIGHT
BEGIN:STANDARD
TZOFFSETFROM:+0200
TZOFFSETTO:+0100
TZNAME:CET
DTSTART:20251026T010000
END:STANDARD
BEGIN:DAYLIGHT
TZOFFSETFROM:+0100
TZOFFSETTO:+0200
TZNAME:CEST
DTSTART:20260329T010000
END:DAYLIGHT
BEGIN:STANDARD
TZOFFSETFROM:+0200
TZOFFSETTO:+0100
TZNAME:CET
DTSTART:20261025T010000
END:STANDARD
BEGIN:DAYLIGHT
TZOFFSETFROM:+0100
TZOFFSETTO:+0200
TZNAME:CEST
DTSTART:20270328T010000
END:DAYLIGHT
BEGIN:STANDARD
TZOFFSETFROM:+0200
TZOFFSETTO:+0100
TZNAME:CET
DTSTART:20271031T010000
END:STANDARD
END:VTIMEZONE
BEGIN:VEVENT
DTSTART;TZID=Europe/Oslo:20260225T193000
DTEND;TZID=Europe/Oslo:20260225T210000
DTSTAMP:20260421T151445
CREATED:20260204T071513Z
LAST-MODIFIED:20260204T071513Z
UID:10002285-1772047800-1772053200@www.bul.no
SUMMARY:Øving: Grunnkurs Leikarringen
DESCRIPTION:Leikarringen i BUL Oslo er ei dansegruppe som dansar det meste av norsk folkedans: runddans (gammaldans)\, turdansar\, bygdedans\, songdans og 1900-talsdansar som swing og tango. \nMedlemmar går gratis på alle våre aktivitetar. Du kan melde deg inn her. \nEr du ikkje medlem kan du likevel vere med på: \n\nTysdagsøvinga: kr. 70\,– pr. gong.\nGrunnkurs i folkedans: kr. 70\,– pr. gong.
URL:https://www.bul.no/hending/oving-grunnkurs-leikarringen-2/2026-02-25/
LOCATION:Lagsrommet\, Nynorskens hus\, Rosenkrantz' gate 8\, Oslo\, Norge
CATEGORIES:Dans - ungdom-vaksne,Leikarringen
ATTACH;FMTTYPE=image/jpeg:https://www.bul.no/wp-content/uploads/2025/10/Grunnkurs-Leikarringen-e1759491986669.avif
END:VEVENT
BEGIN:VEVENT
DTSTART;TZID=Europe/Oslo:20260223T170000
DTEND;TZID=Europe/Oslo:20260223T190000
DTSTAMP:20260421T151445
CREATED:20260204T080134Z
LAST-MODIFIED:20260204T080134Z
UID:10002369-1771866000-1771873200@www.bul.no
SUMMARY:Øving: Den mangfaldige scenen (DMS)
DESCRIPTION:Den Mangfaldige Scenen (DMS) er eit barne- og ungdomsteater der unge mellom 6 og 28 år får uttrykke seg\, lære og skape teater. \nDMS er eit samarbeid mellom Det Norske Teatret\, Bondeungdomslaget i Oslo og Noregs Ungdomslag
URL:https://www.bul.no/hending/oving-den-mangfaldige-scenen-dms-4/2026-02-23/
LOCATION:Lagsrommet\, Nynorskens hus\, Rosenkrantz' gate 8\, Oslo\, Norge
CATEGORIES:Den mangfaldige scenen,Teater
ATTACH;FMTTYPE=image/jpeg:https://www.bul.no/wp-content/uploads/2025/10/DMS-oving-shwan-e1759410414861.avif
ORGANIZER;CN="Den mangfaldige scenen":MAILTO:post@mangfaldige.no
END:VEVENT
BEGIN:VEVENT
DTSTART;TZID=Europe/Oslo:20260219T163000
DTEND;TZID=Europe/Oslo:20260219T183000
DTSTAMP:20260421T151445
CREATED:20260204T080732Z
LAST-MODIFIED:20260204T080732Z
UID:10002396-1771518600-1771525800@www.bul.no
SUMMARY:Øving: Den mangfaldige scenen (DMS)
DESCRIPTION:Den Mangfaldige Scenen (DMS) er eit barne- og ungdomsteater der unge mellom 6 og 28 år får uttrykke seg\, lære og skape teater. \nDMS er eit samarbeid mellom Det Norske Teatret\, Bondeungdomslaget i Oslo og Noregs Ungdomslag
URL:https://www.bul.no/hending/oving-den-mangfaldige-scenen-dms-5/2026-02-19/
LOCATION:Teatersalen\, Nynorskens hus\, Rosenkrantz' gate 8\, Oslo\, Norge
CATEGORIES:Den mangfaldige scenen,Teater
ATTACH;FMTTYPE=image/jpeg:https://www.bul.no/wp-content/uploads/2025/10/DMS-oving-bilde-e1759409862848.avif
ORGANIZER;CN="Den mangfaldige scenen":MAILTO:post@mangfaldige.no
END:VEVENT
BEGIN:VEVENT
DTSTART;TZID=Europe/Oslo:20260218T193000
DTEND;TZID=Europe/Oslo:20260218T210000
DTSTAMP:20260421T151445
CREATED:20260204T071513Z
LAST-MODIFIED:20260204T071513Z
UID:10002284-1771443000-1771448400@www.bul.no
SUMMARY:Øving: Grunnkurs Leikarringen
DESCRIPTION:Leikarringen i BUL Oslo er ei dansegruppe som dansar det meste av norsk folkedans: runddans (gammaldans)\, turdansar\, bygdedans\, songdans og 1900-talsdansar som swing og tango. \nMedlemmar går gratis på alle våre aktivitetar. Du kan melde deg inn her. \nEr du ikkje medlem kan du likevel vere med på: \n\nTysdagsøvinga: kr. 70\,– pr. gong.\nGrunnkurs i folkedans: kr. 70\,– pr. gong.
URL:https://www.bul.no/hending/oving-grunnkurs-leikarringen-2/2026-02-18/
LOCATION:Lagsrommet\, Nynorskens hus\, Rosenkrantz' gate 8\, Oslo\, Norge
CATEGORIES:Dans - ungdom-vaksne,Leikarringen
ATTACH;FMTTYPE=image/jpeg:https://www.bul.no/wp-content/uploads/2025/10/Grunnkurs-Leikarringen-e1759491986669.avif
END:VEVENT
BEGIN:VEVENT
DTSTART;TZID=Europe/Oslo:20260217T180000
DTEND;TZID=Europe/Oslo:20260217T193000
DTSTAMP:20260421T151445
CREATED:20260204T070754Z
LAST-MODIFIED:20260204T070754Z
UID:10002216-1771351200-1771356600@www.bul.no
SUMMARY:Øving: Songdans
DESCRIPTION:Songdans har alltid hatt ein spesiell plass i Leikarringen. I dag har me ei eiga songdansgruppe som øver tysdagar kl. 18.00-19.30. Songdansen har òg ein naturleg plass på «TEMA»-øvingane våre\, og på 17. mai. Når me skipar til leikfest og stordanskveld blir det òg dansa songdans/stordans.
URL:https://www.bul.no/hending/oving-songdans-2/2026-02-17/
LOCATION:Lagsrommet\, Nynorskens hus\, Rosenkrantz' gate 8\, Oslo\, Norge
CATEGORIES:Dans - ungdom-vaksne,Leikarringen
ATTACH;FMTTYPE=image/jpeg:https://www.bul.no/wp-content/uploads/2025/10/Songdans-e1759488418175.avif
END:VEVENT
BEGIN:VEVENT
DTSTART;TZID=Europe/Oslo:20260212T163000
DTEND;TZID=Europe/Oslo:20260212T183000
DTSTAMP:20260421T151445
CREATED:20260204T080732Z
LAST-MODIFIED:20260204T080732Z
UID:10002395-1770913800-1770921000@www.bul.no
SUMMARY:Øving: Den mangfaldige scenen (DMS)
DESCRIPTION:Den Mangfaldige Scenen (DMS) er eit barne- og ungdomsteater der unge mellom 6 og 28 år får uttrykke seg\, lære og skape teater. \nDMS er eit samarbeid mellom Det Norske Teatret\, Bondeungdomslaget i Oslo og Noregs Ungdomslag
URL:https://www.bul.no/hending/oving-den-mangfaldige-scenen-dms-5/2026-02-12/
LOCATION:Teatersalen\, Nynorskens hus\, Rosenkrantz' gate 8\, Oslo\, Norge
CATEGORIES:Den mangfaldige scenen,Teater
ATTACH;FMTTYPE=image/jpeg:https://www.bul.no/wp-content/uploads/2025/10/DMS-oving-bilde-e1759409862848.avif
ORGANIZER;CN="Den mangfaldige scenen":MAILTO:post@mangfaldige.no
END:VEVENT
BEGIN:VEVENT
DTSTART;TZID=Europe/Oslo:20260211T180000
DTEND;TZID=Europe/Oslo:20260211T193000
DTSTAMP:20260421T151445
CREATED:20260127T095507Z
LAST-MODIFIED:20260127T100118Z
UID:10002098-1770832800-1770838200@www.bul.no
SUMMARY:Kvifor Nynorsk? Gratis inspirasjonsføredrag med Kristin Fridtun
DESCRIPTION:Målnemnda i BUL Oslo inviterer til inspirasjonsføredraget «Kvifor nynorsk?» ved forfattar\, filolog og Dag og Tid-spaltist Kristin Fridtun.\nI Bondeungdomslaget i Oslo bruker me nynorsk\, men kva er grunnen til det? Kom og høyr om soga og ideane bak nynorsken og målreisinga.\n\nAlle er hjarteleg velkomne!\n\nOnsdag 11. februar 2026 klokka 18.00-19.30.\nLagsrommet\, Nynorskens hus.\n\n\nFoto: Lene Sørøy Neverdal
URL:https://www.bul.no/hending/kvifor-nynorsk-gratis-inspirasjonsforedrag-med-kristin-fridtun/
LOCATION:Lagsrommet\, Nynorskens hus\, Rosenkrantz' gate 8\, Oslo\, Norge
CATEGORIES:BUL,Føredrag,Målnemnda
ATTACH;FMTTYPE=image/png:https://www.bul.no/wp-content/uploads/2026/01/Kvifor-nynorsk-Inspirasjonsforedrag-med-Kristin-Fridtun.avif
ORGANIZER;CN="BUL Oslo":MAILTO:lagskontor@bul.no
END:VEVENT
BEGIN:VEVENT
DTSTART;TZID=Europe/Oslo:20260210T180000
DTEND;TZID=Europe/Oslo:20260210T193000
DTSTAMP:20260421T151445
CREATED:20260204T070754Z
LAST-MODIFIED:20260204T070754Z
UID:10002215-1770746400-1770751800@www.bul.no
SUMMARY:Øving: Songdans
DESCRIPTION:Songdans har alltid hatt ein spesiell plass i Leikarringen. I dag har me ei eiga songdansgruppe som øver tysdagar kl. 18.00-19.30. Songdansen har òg ein naturleg plass på «TEMA»-øvingane våre\, og på 17. mai. Når me skipar til leikfest og stordanskveld blir det òg dansa songdans/stordans.
URL:https://www.bul.no/hending/oving-songdans-2/2026-02-10/
LOCATION:Lagsrommet\, Nynorskens hus\, Rosenkrantz' gate 8\, Oslo\, Norge
CATEGORIES:Dans - ungdom-vaksne,Leikarringen
ATTACH;FMTTYPE=image/jpeg:https://www.bul.no/wp-content/uploads/2025/10/Songdans-e1759488418175.avif
END:VEVENT
BEGIN:VEVENT
DTSTART;TZID=Europe/Oslo:20260209T170000
DTEND;TZID=Europe/Oslo:20260209T190000
DTSTAMP:20260421T151445
CREATED:20260204T080134Z
LAST-MODIFIED:20260204T080134Z
UID:10002368-1770656400-1770663600@www.bul.no
SUMMARY:Øving: Den mangfaldige scenen (DMS)
DESCRIPTION:Den Mangfaldige Scenen (DMS) er eit barne- og ungdomsteater der unge mellom 6 og 28 år får uttrykke seg\, lære og skape teater. \nDMS er eit samarbeid mellom Det Norske Teatret\, Bondeungdomslaget i Oslo og Noregs Ungdomslag
URL:https://www.bul.no/hending/oving-den-mangfaldige-scenen-dms-4/2026-02-09/
LOCATION:Lagsrommet\, Nynorskens hus\, Rosenkrantz' gate 8\, Oslo\, Norge
CATEGORIES:Den mangfaldige scenen,Teater
ATTACH;FMTTYPE=image/jpeg:https://www.bul.no/wp-content/uploads/2025/10/DMS-oving-shwan-e1759410414861.avif
ORGANIZER;CN="Den mangfaldige scenen":MAILTO:post@mangfaldige.no
END:VEVENT
BEGIN:VEVENT
DTSTART;TZID=Europe/Oslo:20260205T163000
DTEND;TZID=Europe/Oslo:20260205T183000
DTSTAMP:20260421T151445
CREATED:20260204T080732Z
LAST-MODIFIED:20260204T080732Z
UID:10002394-1770309000-1770316200@www.bul.no
SUMMARY:Øving: Den mangfaldige scenen (DMS)
DESCRIPTION:Den Mangfaldige Scenen (DMS) er eit barne- og ungdomsteater der unge mellom 6 og 28 år får uttrykke seg\, lære og skape teater. \nDMS er eit samarbeid mellom Det Norske Teatret\, Bondeungdomslaget i Oslo og Noregs Ungdomslag
URL:https://www.bul.no/hending/oving-den-mangfaldige-scenen-dms-5/2026-02-05/
LOCATION:Teatersalen\, Nynorskens hus\, Rosenkrantz' gate 8\, Oslo\, Norge
CATEGORIES:Den mangfaldige scenen,Teater
ATTACH;FMTTYPE=image/jpeg:https://www.bul.no/wp-content/uploads/2025/10/DMS-oving-bilde-e1759409862848.avif
ORGANIZER;CN="Den mangfaldige scenen":MAILTO:post@mangfaldige.no
END:VEVENT
BEGIN:VEVENT
DTSTART;TZID=Europe/Oslo:20260204T193000
DTEND;TZID=Europe/Oslo:20260204T210000
DTSTAMP:20260421T151446
CREATED:20260204T071513Z
LAST-MODIFIED:20260204T071513Z
UID:10002283-1770233400-1770238800@www.bul.no
SUMMARY:Øving: Grunnkurs Leikarringen
DESCRIPTION:Leikarringen i BUL Oslo er ei dansegruppe som dansar det meste av norsk folkedans: runddans (gammaldans)\, turdansar\, bygdedans\, songdans og 1900-talsdansar som swing og tango. \nMedlemmar går gratis på alle våre aktivitetar. Du kan melde deg inn her. \nEr du ikkje medlem kan du likevel vere med på: \n\nTysdagsøvinga: kr. 70\,– pr. gong.\nGrunnkurs i folkedans: kr. 70\,– pr. gong.
URL:https://www.bul.no/hending/oving-grunnkurs-leikarringen-2/2026-02-04/
LOCATION:Lagsrommet\, Nynorskens hus\, Rosenkrantz' gate 8\, Oslo\, Norge
CATEGORIES:Dans - ungdom-vaksne,Leikarringen
ATTACH;FMTTYPE=image/jpeg:https://www.bul.no/wp-content/uploads/2025/10/Grunnkurs-Leikarringen-e1759491986669.avif
END:VEVENT
BEGIN:VEVENT
DTSTART;TZID=Europe/Oslo:20260203T180000
DTEND;TZID=Europe/Oslo:20260203T193000
DTSTAMP:20260421T151446
CREATED:20260204T070754Z
LAST-MODIFIED:20260204T070754Z
UID:10002214-1770141600-1770147000@www.bul.no
SUMMARY:Øving: Songdans
DESCRIPTION:Songdans har alltid hatt ein spesiell plass i Leikarringen. I dag har me ei eiga songdansgruppe som øver tysdagar kl. 18.00-19.30. Songdansen har òg ein naturleg plass på «TEMA»-øvingane våre\, og på 17. mai. Når me skipar til leikfest og stordanskveld blir det òg dansa songdans/stordans.
URL:https://www.bul.no/hending/oving-songdans-2/2026-02-03/
LOCATION:Lagsrommet\, Nynorskens hus\, Rosenkrantz' gate 8\, Oslo\, Norge
CATEGORIES:Dans - ungdom-vaksne,Leikarringen
ATTACH;FMTTYPE=image/jpeg:https://www.bul.no/wp-content/uploads/2025/10/Songdans-e1759488418175.avif
END:VEVENT
BEGIN:VEVENT
DTSTART;TZID=Europe/Oslo:20260129T163000
DTEND;TZID=Europe/Oslo:20260129T183000
DTSTAMP:20260421T151446
CREATED:20260204T080732Z
LAST-MODIFIED:20260204T080732Z
UID:10002393-1769704200-1769711400@www.bul.no
SUMMARY:Øving: Den mangfaldige scenen (DMS)
DESCRIPTION:Den Mangfaldige Scenen (DMS) er eit barne- og ungdomsteater der unge mellom 6 og 28 år får uttrykke seg\, lære og skape teater. \nDMS er eit samarbeid mellom Det Norske Teatret\, Bondeungdomslaget i Oslo og Noregs Ungdomslag
URL:https://www.bul.no/hending/oving-den-mangfaldige-scenen-dms-5/2026-01-29/
LOCATION:Teatersalen\, Nynorskens hus\, Rosenkrantz' gate 8\, Oslo\, Norge
CATEGORIES:Den mangfaldige scenen,Teater
ATTACH;FMTTYPE=image/jpeg:https://www.bul.no/wp-content/uploads/2025/10/DMS-oving-bilde-e1759409862848.avif
ORGANIZER;CN="Den mangfaldige scenen":MAILTO:post@mangfaldige.no
END:VEVENT
BEGIN:VEVENT
DTSTART;TZID=Europe/Oslo:20260128T193000
DTEND;TZID=Europe/Oslo:20260128T210000
DTSTAMP:20260421T151446
CREATED:20260204T071513Z
LAST-MODIFIED:20260204T071513Z
UID:10002282-1769628600-1769634000@www.bul.no
SUMMARY:Øving: Grunnkurs Leikarringen
DESCRIPTION:Leikarringen i BUL Oslo er ei dansegruppe som dansar det meste av norsk folkedans: runddans (gammaldans)\, turdansar\, bygdedans\, songdans og 1900-talsdansar som swing og tango. \nMedlemmar går gratis på alle våre aktivitetar. Du kan melde deg inn her. \nEr du ikkje medlem kan du likevel vere med på: \n\nTysdagsøvinga: kr. 70\,– pr. gong.\nGrunnkurs i folkedans: kr. 70\,– pr. gong.
URL:https://www.bul.no/hending/oving-grunnkurs-leikarringen-2/2026-01-28/
LOCATION:Lagsrommet\, Nynorskens hus\, Rosenkrantz' gate 8\, Oslo\, Norge
CATEGORIES:Dans - ungdom-vaksne,Leikarringen
ATTACH;FMTTYPE=image/jpeg:https://www.bul.no/wp-content/uploads/2025/10/Grunnkurs-Leikarringen-e1759491986669.avif
END:VEVENT
BEGIN:VEVENT
DTSTART;TZID=Europe/Oslo:20260127T180000
DTEND;TZID=Europe/Oslo:20260127T193000
DTSTAMP:20260421T151446
CREATED:20260204T070754Z
LAST-MODIFIED:20260204T070754Z
UID:10002213-1769536800-1769542200@www.bul.no
SUMMARY:Øving: Songdans
DESCRIPTION:Songdans har alltid hatt ein spesiell plass i Leikarringen. I dag har me ei eiga songdansgruppe som øver tysdagar kl. 18.00-19.30. Songdansen har òg ein naturleg plass på «TEMA»-øvingane våre\, og på 17. mai. Når me skipar til leikfest og stordanskveld blir det òg dansa songdans/stordans.
URL:https://www.bul.no/hending/oving-songdans-2/2026-01-27/
LOCATION:Lagsrommet\, Nynorskens hus\, Rosenkrantz' gate 8\, Oslo\, Norge
CATEGORIES:Dans - ungdom-vaksne,Leikarringen
ATTACH;FMTTYPE=image/jpeg:https://www.bul.no/wp-content/uploads/2025/10/Songdans-e1759488418175.avif
END:VEVENT
BEGIN:VEVENT
DTSTART;TZID=Europe/Oslo:20260126T170000
DTEND;TZID=Europe/Oslo:20260126T190000
DTSTAMP:20260421T151446
CREATED:20260204T080134Z
LAST-MODIFIED:20260204T080134Z
UID:10002367-1769446800-1769454000@www.bul.no
SUMMARY:Øving: Den mangfaldige scenen (DMS)
DESCRIPTION:Den Mangfaldige Scenen (DMS) er eit barne- og ungdomsteater der unge mellom 6 og 28 år får uttrykke seg\, lære og skape teater. \nDMS er eit samarbeid mellom Det Norske Teatret\, Bondeungdomslaget i Oslo og Noregs Ungdomslag
URL:https://www.bul.no/hending/oving-den-mangfaldige-scenen-dms-4/2026-01-26/
LOCATION:Lagsrommet\, Nynorskens hus\, Rosenkrantz' gate 8\, Oslo\, Norge
CATEGORIES:Den mangfaldige scenen,Teater
ATTACH;FMTTYPE=image/jpeg:https://www.bul.no/wp-content/uploads/2025/10/DMS-oving-shwan-e1759410414861.avif
ORGANIZER;CN="Den mangfaldige scenen":MAILTO:post@mangfaldige.no
END:VEVENT
BEGIN:VEVENT
DTSTART;TZID=Europe/Oslo:20260122T163000
DTEND;TZID=Europe/Oslo:20260122T183000
DTSTAMP:20260421T151446
CREATED:20260204T080732Z
LAST-MODIFIED:20260204T080732Z
UID:10002392-1769099400-1769106600@www.bul.no
SUMMARY:Øving: Den mangfaldige scenen (DMS)
DESCRIPTION:Den Mangfaldige Scenen (DMS) er eit barne- og ungdomsteater der unge mellom 6 og 28 år får uttrykke seg\, lære og skape teater. \nDMS er eit samarbeid mellom Det Norske Teatret\, Bondeungdomslaget i Oslo og Noregs Ungdomslag
URL:https://www.bul.no/hending/oving-den-mangfaldige-scenen-dms-5/2026-01-22/
LOCATION:Teatersalen\, Nynorskens hus\, Rosenkrantz' gate 8\, Oslo\, Norge
CATEGORIES:Den mangfaldige scenen,Teater
ATTACH;FMTTYPE=image/jpeg:https://www.bul.no/wp-content/uploads/2025/10/DMS-oving-bilde-e1759409862848.avif
ORGANIZER;CN="Den mangfaldige scenen":MAILTO:post@mangfaldige.no
END:VEVENT
BEGIN:VEVENT
DTSTART;TZID=Europe/Oslo:20260121T193000
DTEND;TZID=Europe/Oslo:20260121T210000
DTSTAMP:20260421T151446
CREATED:20260204T071513Z
LAST-MODIFIED:20260204T071513Z
UID:10002281-1769023800-1769029200@www.bul.no
SUMMARY:Øving: Grunnkurs Leikarringen
DESCRIPTION:Leikarringen i BUL Oslo er ei dansegruppe som dansar det meste av norsk folkedans: runddans (gammaldans)\, turdansar\, bygdedans\, songdans og 1900-talsdansar som swing og tango. \nMedlemmar går gratis på alle våre aktivitetar. Du kan melde deg inn her. \nEr du ikkje medlem kan du likevel vere med på: \n\nTysdagsøvinga: kr. 70\,– pr. gong.\nGrunnkurs i folkedans: kr. 70\,– pr. gong.
URL:https://www.bul.no/hending/oving-grunnkurs-leikarringen-2/2026-01-21/
LOCATION:Lagsrommet\, Nynorskens hus\, Rosenkrantz' gate 8\, Oslo\, Norge
CATEGORIES:Dans - ungdom-vaksne,Leikarringen
ATTACH;FMTTYPE=image/jpeg:https://www.bul.no/wp-content/uploads/2025/10/Grunnkurs-Leikarringen-e1759491986669.avif
END:VEVENT
BEGIN:VEVENT
DTSTART;TZID=Europe/Oslo:20260120T180000
DTEND;TZID=Europe/Oslo:20260120T193000
DTSTAMP:20260421T151446
CREATED:20260204T070754Z
LAST-MODIFIED:20260204T070754Z
UID:10002212-1768932000-1768937400@www.bul.no
SUMMARY:Øving: Songdans
DESCRIPTION:Songdans har alltid hatt ein spesiell plass i Leikarringen. I dag har me ei eiga songdansgruppe som øver tysdagar kl. 18.00-19.30. Songdansen har òg ein naturleg plass på «TEMA»-øvingane våre\, og på 17. mai. Når me skipar til leikfest og stordanskveld blir det òg dansa songdans/stordans.
URL:https://www.bul.no/hending/oving-songdans-2/2026-01-20/
LOCATION:Lagsrommet\, Nynorskens hus\, Rosenkrantz' gate 8\, Oslo\, Norge
CATEGORIES:Dans - ungdom-vaksne,Leikarringen
ATTACH;FMTTYPE=image/jpeg:https://www.bul.no/wp-content/uploads/2025/10/Songdans-e1759488418175.avif
END:VEVENT
BEGIN:VEVENT
DTSTART;TZID=Europe/Oslo:20260115T163000
DTEND;TZID=Europe/Oslo:20260115T183000
DTSTAMP:20260421T151446
CREATED:20260204T080732Z
LAST-MODIFIED:20260204T080732Z
UID:10002391-1768494600-1768501800@www.bul.no
SUMMARY:Øving: Den mangfaldige scenen (DMS)
DESCRIPTION:Den Mangfaldige Scenen (DMS) er eit barne- og ungdomsteater der unge mellom 6 og 28 år får uttrykke seg\, lære og skape teater. \nDMS er eit samarbeid mellom Det Norske Teatret\, Bondeungdomslaget i Oslo og Noregs Ungdomslag
URL:https://www.bul.no/hending/oving-den-mangfaldige-scenen-dms-5/2026-01-15/
LOCATION:Teatersalen\, Nynorskens hus\, Rosenkrantz' gate 8\, Oslo\, Norge
CATEGORIES:Den mangfaldige scenen,Teater
ATTACH;FMTTYPE=image/jpeg:https://www.bul.no/wp-content/uploads/2025/10/DMS-oving-bilde-e1759409862848.avif
ORGANIZER;CN="Den mangfaldige scenen":MAILTO:post@mangfaldige.no
END:VEVENT
BEGIN:VEVENT
DTSTART;TZID=Europe/Oslo:20260114T193000
DTEND;TZID=Europe/Oslo:20260114T210000
DTSTAMP:20260421T151446
CREATED:20260204T071513Z
LAST-MODIFIED:20260204T071513Z
UID:10002280-1768419000-1768424400@www.bul.no
SUMMARY:Øving: Grunnkurs Leikarringen
DESCRIPTION:Leikarringen i BUL Oslo er ei dansegruppe som dansar det meste av norsk folkedans: runddans (gammaldans)\, turdansar\, bygdedans\, songdans og 1900-talsdansar som swing og tango. \nMedlemmar går gratis på alle våre aktivitetar. Du kan melde deg inn her. \nEr du ikkje medlem kan du likevel vere med på: \n\nTysdagsøvinga: kr. 70\,– pr. gong.\nGrunnkurs i folkedans: kr. 70\,– pr. gong.
URL:https://www.bul.no/hending/oving-grunnkurs-leikarringen-2/2026-01-14/
LOCATION:Lagsrommet\, Nynorskens hus\, Rosenkrantz' gate 8\, Oslo\, Norge
CATEGORIES:Dans - ungdom-vaksne,Leikarringen
ATTACH;FMTTYPE=image/jpeg:https://www.bul.no/wp-content/uploads/2025/10/Grunnkurs-Leikarringen-e1759491986669.avif
END:VEVENT
BEGIN:VEVENT
DTSTART;TZID=Europe/Oslo:20260113T180000
DTEND;TZID=Europe/Oslo:20260113T193000
DTSTAMP:20260421T151446
CREATED:20260204T070754Z
LAST-MODIFIED:20260204T070754Z
UID:10002211-1768327200-1768332600@www.bul.no
SUMMARY:Øving: Songdans
DESCRIPTION:Songdans har alltid hatt ein spesiell plass i Leikarringen. I dag har me ei eiga songdansgruppe som øver tysdagar kl. 18.00-19.30. Songdansen har òg ein naturleg plass på «TEMA»-øvingane våre\, og på 17. mai. Når me skipar til leikfest og stordanskveld blir det òg dansa songdans/stordans.
URL:https://www.bul.no/hending/oving-songdans-2/2026-01-13/
LOCATION:Lagsrommet\, Nynorskens hus\, Rosenkrantz' gate 8\, Oslo\, Norge
CATEGORIES:Dans - ungdom-vaksne,Leikarringen
ATTACH;FMTTYPE=image/jpeg:https://www.bul.no/wp-content/uploads/2025/10/Songdans-e1759488418175.avif
END:VEVENT
BEGIN:VEVENT
DTSTART;TZID=Europe/Oslo:20260112T170000
DTEND;TZID=Europe/Oslo:20260112T190000
DTSTAMP:20260421T151446
CREATED:20260204T080134Z
LAST-MODIFIED:20260204T080134Z
UID:10002366-1768237200-1768244400@www.bul.no
SUMMARY:Øving: Den mangfaldige scenen (DMS)
DESCRIPTION:Den Mangfaldige Scenen (DMS) er eit barne- og ungdomsteater der unge mellom 6 og 28 år får uttrykke seg\, lære og skape teater. \nDMS er eit samarbeid mellom Det Norske Teatret\, Bondeungdomslaget i Oslo og Noregs Ungdomslag
URL:https://www.bul.no/hending/oving-den-mangfaldige-scenen-dms-4/2026-01-12/
LOCATION:Lagsrommet\, Nynorskens hus\, Rosenkrantz' gate 8\, Oslo\, Norge
CATEGORIES:Den mangfaldige scenen,Teater
ATTACH;FMTTYPE=image/jpeg:https://www.bul.no/wp-content/uploads/2025/10/DMS-oving-shwan-e1759410414861.avif
ORGANIZER;CN="Den mangfaldige scenen":MAILTO:post@mangfaldige.no
END:VEVENT
BEGIN:VEVENT
DTSTART;TZID=Europe/Oslo:20251218T163000
DTEND;TZID=Europe/Oslo:20251218T183000
DTSTAMP:20260421T151446
CREATED:20251002T125925Z
LAST-MODIFIED:20251002T132931Z
UID:10001980-1766075400-1766082600@www.bul.no
SUMMARY:Øving: Den mangfaldige scenen (DMS)
DESCRIPTION:Den Mangfaldige Scenen (DMS) er eit barne- og ungdomsteater der unge mellom 6 og 28 år får uttrykke seg\, lære og skape teater. \nDMS er eit samarbeid mellom Det Norske Teatret\, Bondeungdomslaget i Oslo og Noregs Ungdomslag
URL:https://www.bul.no/hending/oving-den-mangfaldige-scenen-dms/2025-12-18/
LOCATION:Lagsrommet\, Nynorskens hus\, Rosenkrantz' gate 8\, Oslo\, Norge
CATEGORIES:Den mangfaldige scenen,Teater
ATTACH;FMTTYPE=image/jpeg:https://www.bul.no/wp-content/uploads/2025/10/DMS-oving-bilde-e1759409862848.avif
ORGANIZER;CN="Den mangfaldige scenen":MAILTO:post@mangfaldige.no
END:VEVENT
BEGIN:VEVENT
DTSTART;TZID=Europe/Oslo:20251215T170000
DTEND;TZID=Europe/Oslo:20251215T190000
DTSTAMP:20260421T151446
CREATED:20251002T130742Z
LAST-MODIFIED:20251002T132854Z
UID:10002001-1765818000-1765825200@www.bul.no
SUMMARY:Øving: Den mangfaldige scenen (DMS)
DESCRIPTION:Den Mangfaldige Scenen (DMS) er eit barne- og ungdomsteater der unge mellom 6 og 28 år får uttrykke seg\, lære og skape teater. \nDMS er eit samarbeid mellom Det Norske Teatret\, Bondeungdomslaget i Oslo og Noregs Ungdomslag
URL:https://www.bul.no/hending/oving-den-mangfaldige-scenen-dms-2/2025-12-15/
LOCATION:Lagsrommet\, Nynorskens hus\, Rosenkrantz' gate 8\, Oslo\, Norge
CATEGORIES:Den mangfaldige scenen,Teater
ATTACH;FMTTYPE=image/jpeg:https://www.bul.no/wp-content/uploads/2025/10/DMS-oving-shwan-e1759410414861.avif
ORGANIZER;CN="Den mangfaldige scenen":MAILTO:post@mangfaldige.no
END:VEVENT
BEGIN:VEVENT
DTSTART;TZID=Europe/Oslo:20251211T163000
DTEND;TZID=Europe/Oslo:20251211T183000
DTSTAMP:20260421T151446
CREATED:20251002T125925Z
LAST-MODIFIED:20251002T132931Z
UID:10001979-1765470600-1765477800@www.bul.no
SUMMARY:Øving: Den mangfaldige scenen (DMS)
DESCRIPTION:Den Mangfaldige Scenen (DMS) er eit barne- og ungdomsteater der unge mellom 6 og 28 år får uttrykke seg\, lære og skape teater. \nDMS er eit samarbeid mellom Det Norske Teatret\, Bondeungdomslaget i Oslo og Noregs Ungdomslag
URL:https://www.bul.no/hending/oving-den-mangfaldige-scenen-dms/2025-12-11/
LOCATION:Lagsrommet\, Nynorskens hus\, Rosenkrantz' gate 8\, Oslo\, Norge
CATEGORIES:Den mangfaldige scenen,Teater
ATTACH;FMTTYPE=image/jpeg:https://www.bul.no/wp-content/uploads/2025/10/DMS-oving-bilde-e1759409862848.avif
ORGANIZER;CN="Den mangfaldige scenen":MAILTO:post@mangfaldige.no
END:VEVENT
BEGIN:VEVENT
DTSTART;TZID=Europe/Oslo:20251204T163000
DTEND;TZID=Europe/Oslo:20251204T183000
DTSTAMP:20260421T151446
CREATED:20251002T125925Z
LAST-MODIFIED:20251002T132931Z
UID:10001978-1764865800-1764873000@www.bul.no
SUMMARY:Øving: Den mangfaldige scenen (DMS)
DESCRIPTION:Den Mangfaldige Scenen (DMS) er eit barne- og ungdomsteater der unge mellom 6 og 28 år får uttrykke seg\, lære og skape teater. \nDMS er eit samarbeid mellom Det Norske Teatret\, Bondeungdomslaget i Oslo og Noregs Ungdomslag
URL:https://www.bul.no/hending/oving-den-mangfaldige-scenen-dms/2025-12-04/
LOCATION:Lagsrommet\, Nynorskens hus\, Rosenkrantz' gate 8\, Oslo\, Norge
CATEGORIES:Den mangfaldige scenen,Teater
ATTACH;FMTTYPE=image/jpeg:https://www.bul.no/wp-content/uploads/2025/10/DMS-oving-bilde-e1759409862848.avif
ORGANIZER;CN="Den mangfaldige scenen":MAILTO:post@mangfaldige.no
END:VEVENT
BEGIN:VEVENT
DTSTART;TZID=Europe/Oslo:20251202T180000
DTEND;TZID=Europe/Oslo:20251202T193000
DTSTAMP:20260421T151446
CREATED:20251003T104734Z
LAST-MODIFIED:20251003T104734Z
UID:10002030-1764698400-1764703800@www.bul.no
SUMMARY:Øving: Songdans
DESCRIPTION:Songdans har alltid hatt ein spesiell plass i Leikarringen. I dag har me ei eiga songdansgruppe som øver tysdagar kl. 18.00-19.30. Songdansen har òg ein naturleg plass på «TEMA»-øvingane våre\, og på 17. mai. Når me skipar til leikfest og stordanskveld blir det òg dansa songdans/stordans.
URL:https://www.bul.no/hending/oving-songdans/2025-12-02/
LOCATION:Lagsrommet\, Nynorskens hus\, Rosenkrantz' gate 8\, Oslo\, Norge
CATEGORIES:Dans - ungdom-vaksne,Leikarringen
ATTACH;FMTTYPE=image/jpeg:https://www.bul.no/wp-content/uploads/2025/10/Songdans-e1759488418175.avif
END:VEVENT
BEGIN:VEVENT
DTSTART;TZID=Europe/Oslo:20251201T170000
DTEND;TZID=Europe/Oslo:20251201T190000
DTSTAMP:20260421T151446
CREATED:20251002T130742Z
LAST-MODIFIED:20251002T132854Z
UID:10001989-1764608400-1764615600@www.bul.no
SUMMARY:Øving: Den mangfaldige scenen (DMS)
DESCRIPTION:Den Mangfaldige Scenen (DMS) er eit barne- og ungdomsteater der unge mellom 6 og 28 år får uttrykke seg\, lære og skape teater. \nDMS er eit samarbeid mellom Det Norske Teatret\, Bondeungdomslaget i Oslo og Noregs Ungdomslag
URL:https://www.bul.no/hending/oving-den-mangfaldige-scenen-dms-2/2025-12-01/
LOCATION:Lagsrommet\, Nynorskens hus\, Rosenkrantz' gate 8\, Oslo\, Norge
CATEGORIES:Den mangfaldige scenen,Teater
ATTACH;FMTTYPE=image/jpeg:https://www.bul.no/wp-content/uploads/2025/10/DMS-oving-shwan-e1759410414861.avif
ORGANIZER;CN="Den mangfaldige scenen":MAILTO:post@mangfaldige.no
END:VEVENT
BEGIN:VEVENT
DTSTART;TZID=Europe/Oslo:20251130T180000
DTEND;TZID=Europe/Oslo:20251130T210000
DTSTAMP:20260421T151446
CREATED:20251003T134954Z
LAST-MODIFIED:20251003T134954Z
UID:10002050-1764525600-1764536400@www.bul.no
SUMMARY:Øving: Søndansen
DESCRIPTION:Nokre søndagar i året er det Søndans i Lagsrommet. Du må vera medlem for å dansa her.
URL:https://www.bul.no/hending/oving-sondansen/2025-11-30/
LOCATION:Lagsrommet\, Nynorskens hus\, Rosenkrantz' gate 8\, Oslo\, Norge
CATEGORIES:Dans - ungdom-vaksne,Leikarringen
ATTACH;FMTTYPE=image/jpeg:https://www.bul.no/wp-content/uploads/2025/10/sondans-e1759499160973.avif
END:VEVENT
END:VCALENDAR